BEGIN:VCALENDAR
VERSION:2.0
PRODID:-//Grande du Washington - ECPv6.15.13.1//NONSGML v1.0//EN
CALSCALE:GREGORIAN
METHOD:PUBLISH
X-ORIGINAL-URL:https://grandeduwashington.com
X-WR-CALDESC:Events for Grande du Washington
REFRESH-INTERVAL;VALUE=DURATION:PT1H
X-Robots-Tag:noindex
X-PUBLISHED-TTL:PT1H
BEGIN:VTIMEZONE
TZID:America/Los_Angeles
BEGIN:DAYLIGHT
TZOFFSETFROM:-0800
TZOFFSETTO:-0700
TZNAME:PDT
DTSTART:20170312T100000
END:DAYLIGHT
BEGIN:STANDARD
TZOFFSETFROM:-0700
TZOFFSETTO:-0800
TZNAME:PST
DTSTART:20171105T090000
END:STANDARD
BEGIN:DAYLIGHT
TZOFFSETFROM:-0800
TZOFFSETTO:-0700
TZNAME:PDT
DTSTART:20180311T100000
END:DAYLIGHT
BEGIN:STANDARD
TZOFFSETFROM:-0700
TZOFFSETTO:-0800
TZNAME:PST
DTSTART:20181104T090000
END:STANDARD
BEGIN:DAYLIGHT
TZOFFSETFROM:-0800
TZOFFSETTO:-0700
TZNAME:PDT
DTSTART:20190310T100000
END:DAYLIGHT
BEGIN:STANDARD
TZOFFSETFROM:-0700
TZOFFSETTO:-0800
TZNAME:PST
DTSTART:20191103T090000
END:STANDARD
BEGIN:DAYLIGHT
TZOFFSETFROM:-0800
TZOFFSETTO:-0700
TZNAME:PDT
DTSTART:20200308T100000
END:DAYLIGHT
BEGIN:STANDARD
TZOFFSETFROM:-0700
TZOFFSETTO:-0800
TZNAME:PST
DTSTART:20201101T090000
END:STANDARD
END:VTIMEZONE
BEGIN:VEVENT
DTSTART;VALUE=DATE:20190911
DTEND;VALUE=DATE:20190912
DTSTAMP:20260424T200725
CREATED:20190601T053045Z
LAST-MODIFIED:20190819T070235Z
UID:2558-1568160000-1568246399@grandeduwashington.com
SUMMARY:Patriot Day
DESCRIPTION:Observe Patriot Day                                                                  On the direction of the President\, the flag of the United States of America should be displayed on the homes of Americans\, the White House and all United States government buildings in the whole world. The flag should be flown at half-staff as a mark of respect to those who died on September 11\, 2001. Many people observe a moment of silence at 8:46 AM (Eastern Daylight Time). This marks the time that the first plane flew into the World Trade Center. Some communities\, particularly in the areas directly affected by the attacks\, hold special church services or prayer meetings. People who personally experienced the events in 2001 or lost loved ones in them\, may lay flowers or visit memorials. \nPublic Life\nPatriot Day is not a federal holiday and schools and businesses do not close. Public transit systems run on their regular schedules. Some people and organizations may take some time out to hold prayers for the victims of the attacks\, but these do not usually affect public life for more than a few minutes. \nAbout Patriot Day\nOn September 11\, 2001\, four planes were hijacked. The hijackers then deliberately flew three of the planes into two important buildings\, the Pentagon in Washington DC and the Twin Towers of the World Trade Center in New York. The fourth crashed into a field near Shanksville\, Pennsylvania. The loss of life and damage that these hijackings caused form the biggest act of terrorism ever on United States soil. Nearly 3000 people died in the attacks and the economic impact was immense. \nThe attacks have greatly increased attention to national security in the United States. This has had huge implications for United States national and international politics. This is particularly true for the relationships between the United States and Islamic countries in the Middle East. \nSymbols\nThe most potent symbol of the events that happened on September 11\, 2001 are pictures and videos of planes flying into buildings\, of the Twin Towers of the World Trade Center engulfed in smoke and later collapsing and of people falling from buildings. Pictures taken of damaged buildings and relatives looking for loved ones in the days and weeks after the attacks are also often shown. The flag of the United States is often displayed around images of the events on September 11\, 2001. This is to remind Americans that their country remained strong in the face of massive terrorist attacks. \nPatriot Day should not be confused with Patriot’s Day\, also known as Patriots Day\, which commemorates the battles of Lexington and Concord in 1775\, which were two of the earliest battles in the American Revolutionary War.
URL:https://grandeduwashington.com/event/patriot-day/
LOCATION:WA
CATEGORIES:Americanism,Community Event,Community Service,History,Remembrance and Appreciation
END:VEVENT
BEGIN:VEVENT
DTSTART;VALUE=DATE:20190902
DTEND;VALUE=DATE:20190903
DTSTAMP:20260424T200725
CREATED:20190814T222255Z
LAST-MODIFIED:20190815T233322Z
UID:2617-1567382400-1567468799@grandeduwashington.com
SUMMARY:2nd Annual 40et8 Labor Day Car Show
DESCRIPTION:
URL:https://grandeduwashington.com/event/2nd-annual-40et8-labor-day-car-show/
LOCATION:Voiture 99 Chateau\, 7607 NE 26th Ave\, Vancouver \, WA\, 98665\, United States
CATEGORIES:Americanism,Car Show,Community Event,Community Service,Fundraiser,Remembrance and Appreciation
END:VEVENT
BEGIN:VEVENT
DTSTART;TZID=America/Los_Angeles:20190831T120000
DTEND;TZID=America/Los_Angeles:20190831T133000
DTSTAMP:20260424T200725
CREATED:20190803T215905Z
LAST-MODIFIED:20190803T234657Z
UID:2607-1567252800-1567258200@grandeduwashington.com
SUMMARY:Memorial service for 32 Marines killed on Mt Rainier in 1946
DESCRIPTION:You are cordially invited to attend the 73rd Annual Memorial Ceremony \nof 32 of our Marine Brothers who joined the Supreme Commandant on \n10 Dec 1946 on Mt Rainier. \n\n1946 ~ 2019 73rd Memorial Ceremony \nHosted by the Pierce County Det #504 \nDept. of Washington Marine Corps League \n  \nSaturday\, August 31\, 2019 at 12 PM – 1:30 PM \n@ Veterans Memorial Park in Enumclaw along Hwy 410 \n1151 Roosevelt Ave. Enumclaw\, WA 98022
URL:https://grandeduwashington.com/event/2607/
LOCATION:Veterans Memorial Park\, 1151 Roosevelt Ave\, Enumclaw\, WA\, 98022\, United States
CATEGORIES:Americanism,Community Service,Memorial service,Remembrance and Appreciation
END:VEVENT
BEGIN:VEVENT
DTSTART;TZID=America/Los_Angeles:20190804T130000
DTEND;TZID=America/Los_Angeles:20190804T190000
DTSTAMP:20260424T200725
CREATED:20190428T124938Z
LAST-MODIFIED:20190428T125852Z
UID:2520-1564923600-1564945200@grandeduwashington.com
SUMMARY:American Legion Tee-Off for Troops
DESCRIPTION:
URL:https://grandeduwashington.com/event/2520/
LOCATION:Tri Mountain Golf Course\, 1701 NW 299th Street \, Ridgefield \, WA\, United States
CATEGORIES:Americanism,Community Event,Community Service,Fundraiser,Remembrance and Appreciation,Sporting event
END:VEVENT
BEGIN:VEVENT
DTSTART;VALUE=DATE:20190621
DTEND;VALUE=DATE:20190623
DTSTAMP:20260424T200725
CREATED:20190428T132933Z
LAST-MODIFIED:20190428T132933Z
UID:2530-1561075200-1561247999@grandeduwashington.com
SUMMARY:LeFemme's Annual Rummage Sale
DESCRIPTION:
URL:https://grandeduwashington.com/event/lefemmes-annual-rummage-sale/
LOCATION:Voiture 99 Boxcar Room\, 7607 NE 26th Ave. \, Vancouver \, WA\,  98665 \, United States
CATEGORIES:Americanism,Community Event,Community Service,Fundraiser,LaFemmes,Remembrance and Appreciation
END:VEVENT
BEGIN:VEVENT
DTSTART;TZID=America/Los_Angeles:20190521T183000
DTEND;TZID=America/Los_Angeles:20190521T200000
DTSTAMP:20260424T200725
CREATED:20190426T141037Z
LAST-MODIFIED:20190426T141037Z
UID:2510-1558463400-1558468800@grandeduwashington.com
SUMMARY:Voiture 99 Cheminot / Cabane 99 Cheminot
DESCRIPTION:Finance Committee will meet in the Bingo Hall at 4:00 pm\nDinner 5:30 pm\nMeetings 6:30 pm
URL:https://grandeduwashington.com/event/voiture-99-cheminot-cabane-99-cheminot-13/
LOCATION:Voiture 99 Chateau\, 7607 NE 26th Ave\, Vancouver \, WA\, 98665\, United States
CATEGORIES:Americanism,Cheminot,Community Service,Meeting,Remembrance and Appreciation,Veterans Event
END:VEVENT
BEGIN:VEVENT
DTSTART;TZID=America/Los_Angeles:20190516T183000
DTEND;TZID=America/Los_Angeles:20190516T193000
DTSTAMP:20260424T200725
CREATED:20190426T142116Z
LAST-MODIFIED:20190426T142116Z
UID:2512-1558031400-1558035000@grandeduwashington.com
SUMMARY:Military History Talk
DESCRIPTION:The Portland Metro Area Response Plan in World War II\nWhen the United States entered World War II\, it was the first time since the War of 1812 that the United States feared a full-scale enemy invasion. Across the country\, as military bases beefed up their security and war plans\, so did civilian governments. In Portland\, Oregon\, the city developed and implemented a comprehensive plan to combat enemy attacks\, as well as implementing the changes necessary at home to support the war effort abroad. These plans included the City of Vancouver. \nSpeakers: Mr. Paul Fanning
URL:https://grandeduwashington.com/event/military-history-talk/
LOCATION:Marshall House\, 1301 Officer's Row \, Vancouver \, WA\, 98661 \, United States
CATEGORIES:Americanism,Community Event,Community Service,History,Meeting,Remembrance and Appreciation
END:VEVENT
BEGIN:VEVENT
DTSTART;TZID=America/Los_Angeles:20190506T183000
DTEND;TZID=America/Los_Angeles:20190506T200000
DTSTAMP:20260424T200725
CREATED:20190426T135851Z
LAST-MODIFIED:20190426T140626Z
UID:2508-1557167400-1557172800@grandeduwashington.com
SUMMARY:Voiture 99 Promenade/ Cabane 99 Rendezvous
DESCRIPTION:Finance Committee will meet in the Bingo Hall at 4:00 pm\nDinner 5:30 pm\nMeetings 6:30 pm
URL:https://grandeduwashington.com/event/voiture-99-promenade-cabane-99-rendezvous-7/
LOCATION:Voiture 99 Chateau\, 7607 NE 26th Ave\, Vancouver \, WA\, 98665\, United States
CATEGORIES:Americanism,Community Service,Meeting,Prom,Remembrance and Appreciation,Veterans Event
END:VEVENT
BEGIN:VEVENT
DTSTART;TZID=America/Los_Angeles:20190505T150000
DTEND;TZID=America/Los_Angeles:20190505T180000
DTSTAMP:20260424T200725
CREATED:20190426T143219Z
LAST-MODIFIED:20190426T143219Z
UID:2516-1557068400-1557079200@grandeduwashington.com
SUMMARY:Cinco de Mayo – Big Money Night at 40 et 8 Bingo
DESCRIPTION:Sunday\, May 5th\, 3:00 pm\n(Doors open at 1:00 pm) \n$25 for the first packet\, $10 each additional\, paying $1000\n4- $1199 Blackouts\nPick 8 & Bonanza guaranteed $500 \nEnchilada dinner\, pre-bingo games and giveaways included with buy-in\n(1:00 pm-2:30 pm or while it lasts!) \nONE SESSION ONLY! \nWe have reserved seating with a machine available for a non refundable $20 donation to our 40 et 8 programs.\nCome in and ask for a manager. We will get you your favorite spot!
URL:https://grandeduwashington.com/event/cinco-de-mayo-big-money-night-at-40-et-8-bingo/
LOCATION:Voiture 99 Bingo Parlor\, 7607 NE 26th Ave. \, Vancouver\, WA\, 98665\, United States
CATEGORIES:Americanism,Community Event,Community Service
END:VEVENT
BEGIN:VEVENT
DTSTART;TZID=America/Los_Angeles:20190502T190000
DTEND;TZID=America/Los_Angeles:20190502T200000
DTSTAMP:20260424T200725
CREATED:20190426T135424Z
LAST-MODIFIED:20190426T135424Z
UID:2505-1556823600-1556827200@grandeduwashington.com
SUMMARY:Lewis County Voiture 83 Promenade
DESCRIPTION:
URL:https://grandeduwashington.com/event/lewis-county-voiture-83-promenade-3/
LOCATION:Chehalis Eagles\, 1993 S Market Blvd\, Chehalis\, WA\, 98532 \, United States
CATEGORIES:Americanism,Community Service,Meeting,Prom,Remembrance and Appreciation,Veterans Event
ORGANIZER;CN="Lewis Co. Voiture 83":MAILTO:tomboone1146@yahoo.com 
END:VEVENT
BEGIN:VEVENT
DTSTART;TZID=America/Los_Angeles:20190404T190000
DTEND;TZID=America/Los_Angeles:20190404T200000
DTSTAMP:20260424T200725
CREATED:20190330T170018Z
LAST-MODIFIED:20190330T170018Z
UID:2502-1554404400-1554408000@grandeduwashington.com
SUMMARY:Lewis County Voiture  83's April 2019 Prom
DESCRIPTION:Lewis County Voiture  83’s April 2019 Prom will be April 4\, 2019 at Chehalis Eagles\, Chehalis Wa.  We will be ordering off the menu.\nThursday April 4\, 2019\nTime: **Social**6:00 pm\n**Dinner*6:30 pm\n**Prom**7:00 pm\n\nLet me know how many will be there\, you can reach me by calling\n(360) 266-7055 or E-mail me at tomboone1146@yahoo.com\nBring a potential new member with you.\n\nThe Voiture is now 104.76%
URL:https://grandeduwashington.com/event/lewis-county-voiture-83s-april-2019-prom/
LOCATION:Chehalis Eagles\, 1993 S Market Blvd\, Chehalis\, WA\, 98532 \, United States
CATEGORIES:Americanism,Community Service,Prom,Remembrance and Appreciation
ORGANIZER;CN="Lewis Co. Voiture 83":MAILTO:tomboone1146@yahoo.com 
END:VEVENT
BEGIN:VEVENT
DTSTART;VALUE=DATE:20190329
DTEND;VALUE=DATE:20190330
DTSTAMP:20260424T200725
CREATED:20190312T132602Z
LAST-MODIFIED:20190312T132602Z
UID:2499-1553817600-1553903999@grandeduwashington.com
SUMMARY:National Vietnam War Veterans Day
DESCRIPTION:On behalf of the Department of Veterans Affairs and the Veterans we are deeply honored to serve\, I want to say thank you to our country’s more than six-and-a-half million living Vietnam Veterans and their families. \nWelcome home! \nTwo years ago\, President Trump signed the Vietnam War Veterans Recognition Act into law. That Act designates every March 29 as National Vietnam War Veterans Day. It was March 29\, 1973\, when the last of our combat troops left Vietnam. \nIt was on that day that the last American prisoners of war held in North Vietnam came home. \nVietnam War Veterans Day is part of our nation’s ongoing commemoration of the 50th anniversary of the Vietnam War. \nIn support\, VA and more than 10\,000 local\, state\, and national organizations join the Department of Defense as Commemorative Partners. \nWe honor the nine million American men and women who served on active duty from November 1\, 1955\, to May 7\, 1975.  We solemnly remember more than 58\,000 whose names are etched into the Vietnam Memorial’s polished black granite—constant reminders of the price of freedom. \nTake advantage of the opportunities this commemoration encourages and show your gratitude to this noble generation of American service members.
URL:https://grandeduwashington.com/event/national-vietnam-war-veterans-day/
LOCATION:WA
CATEGORIES:Americanism,Community Event,Community Service,Remembrance and Appreciation
END:VEVENT
BEGIN:VEVENT
DTSTART;VALUE=DATE:20190322
DTEND;VALUE=DATE:20190324
DTSTAMP:20260424T200725
CREATED:20190301T185013Z
LAST-MODIFIED:20190301T185013Z
UID:2491-1553212800-1553385599@grandeduwashington.com
SUMMARY:Grande Petite Promenade
DESCRIPTION:
URL:https://grandeduwashington.com/event/grande-petite-promenade/
LOCATION:WA
CATEGORIES:Americanism,Community Service,Grande Promenade,Meeting,Remembrance and Appreciation,Veterans Event
END:VEVENT
BEGIN:VEVENT
DTSTART;TZID=America/Los_Angeles:20190307T190000
DTEND;TZID=America/Los_Angeles:20190307T200000
DTSTAMP:20260424T200725
CREATED:20190301T183933Z
LAST-MODIFIED:20190301T183933Z
UID:2488-1551985200-1551988800@grandeduwashington.com
SUMMARY:Lewis County Voiture 83 Promenade
DESCRIPTION:
URL:https://grandeduwashington.com/event/lewis-county-voiture-83-promenade-2/
LOCATION:Chehalis Eagles\, 1993 S Market Blvd\, Chehalis\, WA\, 98532 \, United States
CATEGORIES:Americanism,Community Service,Prom,Remembrance and Appreciation
ORGANIZER;CN="Lewis Co. Voiture 83":MAILTO:tomboone1146@yahoo.com 
END:VEVENT
BEGIN:VEVENT
DTSTART;TZID=America/Los_Angeles:20190219T183000
DTEND;TZID=America/Los_Angeles:20190219T193000
DTSTAMP:20260424T200725
CREATED:20190201T202923Z
LAST-MODIFIED:20190201T202923Z
UID:2464-1550601000-1550604600@grandeduwashington.com
SUMMARY:Voiture 99 Cheminot / Cabane 99 Cheminot
DESCRIPTION:Chateau opens at 4:00 pm \nFinancial Committee at 4:00 pm at the Bingo Parlor \nDinner at 5:30 pm \nMeetings at 6:30 pm
URL:https://grandeduwashington.com/event/voiture-99-cheminot-cabane-99-cheminot-11/
LOCATION:Voiture 99 Chateau\, 7607 NE 26th Ave\, Vancouver \, WA\, 98665\, United States
CATEGORIES:Americanism,Cheminot,Community Event,Community Service,Remembrance and Appreciation,Veterans Event
END:VEVENT
BEGIN:VEVENT
DTSTART;TZID=America/Los_Angeles:20190207T190000
DTEND;TZID=America/Los_Angeles:20190207T200000
DTSTAMP:20260424T200725
CREATED:20190201T202134Z
LAST-MODIFIED:20190201T202134Z
UID:2459-1549566000-1549569600@grandeduwashington.com
SUMMARY:Lewis County Voiture 83 Promenade
DESCRIPTION:
URL:https://grandeduwashington.com/event/lewis-county-voiture-83-promenade/
LOCATION:Chehalis Eagles\, 1993 S Market Blvd\, Chehalis\, WA\, 98532 \, United States
CATEGORIES:Americanism,Community Event,Community Service,Prom,Remembrance and Appreciation,Veterans Event
ORGANIZER;CN="Lewis Co. Voiture 83":MAILTO:tomboone1146@yahoo.com 
END:VEVENT
BEGIN:VEVENT
DTSTART;TZID=America/Los_Angeles:20190204T183000
DTEND;TZID=America/Los_Angeles:20190204T193000
DTSTAMP:20260424T200725
CREATED:20190201T202619Z
LAST-MODIFIED:20190201T202619Z
UID:2462-1549305000-1549308600@grandeduwashington.com
SUMMARY:Voiture 99 Promenade/ Cabane 99 Rendezvous
DESCRIPTION:Finance Committee will meet in the Bingo Hall at 4:00 pm \nDinner 5:30 pm \nMeetings 6:30 pm
URL:https://grandeduwashington.com/event/voiture-99-promenade-cabane-99-rendezvous-5/
LOCATION:Voiture 99 Chateau\, 7607 NE 26th Ave\, Vancouver \, WA\, 98665\, United States
CATEGORIES:Americanism,Community Event,Community Service,Prom,Remembrance and Appreciation,Veterans Event
END:VEVENT
BEGIN:VEVENT
DTSTART;TZID=America/Los_Angeles:20190103T190000
DTEND;TZID=America/Los_Angeles:20190103T200000
DTSTAMP:20260424T200725
CREATED:20181228T113525Z
LAST-MODIFIED:20181228T113525Z
UID:2455-1546542000-1546545600@grandeduwashington.com
SUMMARY:Lewis County Voiture 83’s January 2019 Prom
DESCRIPTION:
URL:https://grandeduwashington.com/event/lewis-county-voiture-83s-january-2019-prom/
LOCATION:Chehalis Eagles\, 1993 S Market Blvd\, Chehalis\, WA\, 98532 \, United States
CATEGORIES:Americanism,Community Service,Prom,Remembrance and Appreciation,Veterans Event
ORGANIZER;CN="Lewis Co. Voiture 83":MAILTO:tomboone1146@yahoo.com 
END:VEVENT
BEGIN:VEVENT
DTSTART;TZID=America/Los_Angeles:20181206T180000
DTEND;TZID=America/Los_Angeles:20181206T200000
DTSTAMP:20260424T200725
CREATED:20181130T170857Z
LAST-MODIFIED:20181130T170857Z
UID:2450-1544119200-1544126400@grandeduwashington.com
SUMMARY:Lewis County Voiture  83's December 2018 Prom
DESCRIPTION:Lewis County Voiture  83’s December 2018 Prom will be December 6\, 2018\, at Chehalis Eagles\, Chehalis Wa.  We will be ordering off the menu.\nThursday\, December 6\, 2018\nTime: **Social**6:00 pm\n**Dinner**6:30 pm\n**Prom**7:00 pm\nLet me know how many will be there\, you can reach me by calling\n(360) 266-7055 or E-mail me at tomboone1146@yahoo.com\nBring a potential new member with you.\n\nI have 2019 membership cards\, just $25.00 for the year\, send your dues to Tom Boone\, Correspondant\nPO Box 1204\nToledo\, WA 98591
URL:https://grandeduwashington.com/event/lewis-county-voiture-83s-december-2018-prom/
LOCATION:Chehalis Eagles\, 1993 S Market Blvd\, Chehalis\, WA\, 98532 \, United States
CATEGORIES:Americanism,Community Service,Prom,Remembrance and Appreciation,Veterans Event
ORGANIZER;CN="Lewis Co. Voiture 83":MAILTO:tomboone1146@yahoo.com 
END:VEVENT
BEGIN:VEVENT
DTSTART;TZID=America/Los_Angeles:20181120T183000
DTEND;TZID=America/Los_Angeles:20181120T200000
DTSTAMP:20260424T200725
CREATED:20181028T200235Z
LAST-MODIFIED:20181028T220531Z
UID:2446-1542738600-1542744000@grandeduwashington.com
SUMMARY:Voiture 99 Cheminot / Cabane 99 Cheminot
DESCRIPTION:Voiture 99 Cheminot / Cabane 99 Cheminot\n\nNovember 20 @ 6:30 pm – 8:00 pm\n\n\n\nVoiture 99 Cheminot / Cabane 99 Cheminot\nChateau opens at 4:00 pm\nFinancial Committee at 4:00 pm at the Bingo Parlor\nDinner at 5:30 pm\nMeetings at 6:30 pm
URL:https://grandeduwashington.com/event/voiture-99-cheminot-cabane-99-cheminot-10/
LOCATION:Voiture 99 Chateau\, 7607 NE 26th Ave\, Vancouver \, WA\, 98665\, United States
CATEGORIES:Americanism,Community Service,Prom,Remembrance and Appreciation,Veterans Event
END:VEVENT
BEGIN:VEVENT
DTSTART;TZID=America/Los_Angeles:20181105T183000
DTEND;TZID=America/Los_Angeles:20181105T200000
DTSTAMP:20260424T200725
CREATED:20181028T195833Z
LAST-MODIFIED:20181028T195833Z
UID:2443-1541442600-1541448000@grandeduwashington.com
SUMMARY:V99 Prom /C99 Rendezvous
DESCRIPTION:V99 Prom /C99 Rendezvous\nNovember 5 @ 6:30 pm – 7:30 pm\n\n\nChateau opens at 4:00 pm\n\nDinner at 5:30 pm
URL:https://grandeduwashington.com/event/v99-prom-c99-rendezvous-4/
LOCATION:Voiture 99 Chateau\, 7607 NE 26th Ave\, Vancouver \, WA\, 98665\, United States
CATEGORIES:Americanism,Community Service,Prom,Remembrance and Appreciation,Veterans Event
END:VEVENT
BEGIN:VEVENT
DTSTART;TZID=America/Los_Angeles:20181101T180000
DTEND;TZID=America/Los_Angeles:20181101T200000
DTSTAMP:20260424T200725
CREATED:20181028T195330Z
LAST-MODIFIED:20181028T195330Z
UID:2441-1541095200-1541102400@grandeduwashington.com
SUMMARY:Lewis County Voiture  83's November Prom
DESCRIPTION:Lewis County Voiture  83’s November 2018 Prom will be November 1\, 2018\, at Chehalis Eagles\, Chehalis Wa.  We will be ordering off the menu.\nThursday\, November 1\, 2018\nTime: **Social**6:00 pm\n**Dinner**6:30 pm\n**Prom**7:00 pm\nLet me know how many will be there\, you can reach me by calling\n(360) 266-7055 or E-mail me at tomboone1146@yahoo.com\nBring a potential new member with you.\n\nI have 2019 membership cards\, just $25.00 for the year\, send your dues to Tom Boone\, Correspondant\nPO Box 1204\nToledo\, WA 98591
URL:https://grandeduwashington.com/event/lewis-county-voiture-83s-november-prom/
LOCATION:Chehalis Eagles\, 1993 S Market Blvd\, Chehalis\, WA\, 98532 \, United States
CATEGORIES:Americanism,Community Service,Prom,Remembrance and Appreciation,Veterans Event
ORGANIZER;CN="Lewis Co. Voiture 83":MAILTO:tomboone1146@yahoo.com 
END:VEVENT
BEGIN:VEVENT
DTSTART;TZID=America/Los_Angeles:20181016T183000
DTEND;TZID=America/Los_Angeles:20181016T193000
DTSTAMP:20260424T200725
CREATED:20180930T043556Z
LAST-MODIFIED:20180930T043556Z
UID:2436-1539714600-1539718200@grandeduwashington.com
SUMMARY:Voiture 99 Cheminot / Cabane 99 Cheminot
DESCRIPTION:Voiture 99 Cheminot / Cabane 99 Cheminot\nChateau opens at 4:00 pm\nFinancial Committee at 4:00 pm at the Bingo Parlor\nDinner at 5:30 pm\nMeetings at 6:30 pm
URL:https://grandeduwashington.com/event/voiture-99-cheminot-cabane-99-cheminot-9/
LOCATION:Voiture 99 Chateau\, 7607 NE 26th Ave\, Vancouver \, WA\, 98665\, United States
CATEGORIES:Americanism,Cheminot,Community Service,Picnic,Remembrance and Appreciation,Veterans Event
END:VEVENT
BEGIN:VEVENT
DTSTART;TZID=America/Los_Angeles:20181004T190000
DTEND;TZID=America/Los_Angeles:20181004T200000
DTSTAMP:20260424T200725
CREATED:20180930T042808Z
LAST-MODIFIED:20180930T042808Z
UID:2434-1538679600-1538683200@grandeduwashington.com
SUMMARY:October Prom for Lewis Co. Voiture 83 40 & 8
DESCRIPTION:Lewis County Voiture  83’s October 2018 Prom will be October 4\, 2018 at Chehalis Eagles\, Chehalis Wa.  We will be ordering off the menu.\nThursday October 4\, 2018\nTime: **Social**6:00 pm\n**Dinner**6:30 pm\n**Prom**7:00 pm\nLet me know how many will be there\, you can reach me by calling\n(360) 266-7055 or E-mail me at tomboone1146@yahoo.com\nBring a potential new member with you.\n\nI have 2019 membership cards\, just $25.00 for the year
URL:https://grandeduwashington.com/event/october-prom-for-lewis-co-voiture-83-40-8/
LOCATION:Chehalis Eagles\, 1993 S Market Blvd\, Chehalis\, WA\, 98532 \, United States
CATEGORIES:Americanism,Community Service,Prom,Remembrance and Appreciation,Veterans Event
ORGANIZER;CN="Lewis Co. Voiture 83":MAILTO:tomboone1146@yahoo.com 
END:VEVENT
BEGIN:VEVENT
DTSTART;TZID=America/Los_Angeles:20181001T183000
DTEND;TZID=America/Los_Angeles:20181001T193000
DTSTAMP:20260424T200725
CREATED:20180910T191832Z
LAST-MODIFIED:20180910T191832Z
UID:2429-1538418600-1538422200@grandeduwashington.com
SUMMARY:V99 Prom /C99 Rendezvous
DESCRIPTION:V99 Prom /C99 Rendezvous \nOctober 1 @ 6:30 pm – 7:30 pm\n\n\nChateau opens at 4:00 pm\n\n\nDinner at 5:30 pm \nV99 Prom /C99 Rendezvous 6:30 pm
URL:https://grandeduwashington.com/event/v99-prom-c99-rendezvous-3/
LOCATION:Voiture 99 Chateau\, 7607 NE 26th Ave\, Vancouver \, WA\, 98665\, United States
CATEGORIES:Americanism,Community Event,Community Service,Prom,Remembrance and Appreciation
END:VEVENT
BEGIN:VEVENT
DTSTART;TZID=America/Los_Angeles:20180910T080000
DTEND;TZID=America/Los_Angeles:20180910T170000
DTSTAMP:20260424T200725
CREATED:20180910T192314Z
LAST-MODIFIED:20180910T192314Z
UID:2431-1536566400-1536598800@grandeduwashington.com
SUMMARY:Voiture 99 Cheminot / Cabane 99 Cheminot
DESCRIPTION:Voiture 99 Cheminot / Cabane 99 Cheminot \nChateau opens at 4:00 pm \nFinancial Committee at 4:00 pm at the Bingo Parlor \nDinner at 5:30 pm\nMeetings at 6:30 pm
URL:https://grandeduwashington.com/event/voiture-99-cheminot-cabane-99-cheminot-8/
LOCATION:WA
CATEGORIES:Americanism,Cheminot,Community Service,Remembrance and Appreciation,Veterans Event
END:VEVENT
BEGIN:VEVENT
DTSTART;TZID=America/Los_Angeles:20180906T180000
DTEND;TZID=America/Los_Angeles:20180906T200000
DTSTAMP:20260424T200725
CREATED:20180830T173015Z
LAST-MODIFIED:20180830T173015Z
UID:2425-1536256800-1536264000@grandeduwashington.com
SUMMARY:Voiture 83’s September 2018 Promenade
DESCRIPTION:Lewis County Voiture  83’s September 2018 Prom will be September 6\, 2018 at Chehalis Eagles\, Chehalis Wa.  We will be ordering off the menu.\nThursday September 6\, 2018\nTime: **Social**6:00 pm\n**Dinner**6:30 pm\n**Prom**7:00 pm\nLet me know how many will be there\, you can reach me by calling\n(360) 266-7055 or E-mail me at tomboone1146@yahoo.com\nBring a potential new member with you.\n\nI have 2019 membership cards\, just $25.00 for the year
URL:https://grandeduwashington.com/event/voiture-83s-september-2018-promenade/
LOCATION:Chehalis Eagles\, 1993 S Market Blvd\, Chehalis\, WA\, 98532 \, United States
CATEGORIES:Americanism,Community Service,Meeting,Prom,Remembrance and Appreciation
ORGANIZER;CN="Lewis Co. Voiture 83":MAILTO:tomboone1146@yahoo.com 
END:VEVENT
BEGIN:VEVENT
DTSTART;TZID=America/Los_Angeles:20180904T160000
DTEND;TZID=America/Los_Angeles:20180904T193000
DTSTAMP:20260424T200725
CREATED:20180830T172549Z
LAST-MODIFIED:20180830T172549Z
UID:2423-1536076800-1536089400@grandeduwashington.com
SUMMARY:Voiture 99 Prom & Cheminot/ Cabane 99 Rendezvous
DESCRIPTION:Voiture 99 Prom & Cheminot/ Cabane 99 Rendezvous\n\nSeptember 4 @ 4:00 pm – 7:30 pm\n\n\n\nCheminot begins at 4:00 pm \nDinner at 5:30 pm \nPromenade at 7:00 pm
URL:https://grandeduwashington.com/event/voiture-99-prom-cheminot-cabane-99-rendezvous/
LOCATION:Voiture 99 Chateau\, 7607 NE 26th Ave\, Vancouver \, WA\, 98665\, United States
CATEGORIES:Americanism,Cheminot,Meeting,Prom,Remembrance and Appreciation
END:VEVENT
BEGIN:VEVENT
DTSTART;TZID=America/Los_Angeles:20180903T100000
DTEND;TZID=America/Los_Angeles:20180903T150000
DTSTAMP:20260424T200725
CREATED:20180406T070605Z
LAST-MODIFIED:20180406T070605Z
UID:2353-1535968800-1535986800@grandeduwashington.com
SUMMARY:Veterans Car and Motorcycle Show
DESCRIPTION:
URL:https://grandeduwashington.com/event/veterans-car-and-motorcycle-show/
LOCATION:Voiture 99 Chateau\, 7607 NE 26th Ave\, Vancouver \, WA\, 98665\, United States
CATEGORIES:Americanism,Community Event,Community Service,Fundraiser
END:VEVENT
BEGIN:VEVENT
DTSTART;VALUE=DATE:20180608
DTEND;VALUE=DATE:20180610
DTSTAMP:20260424T200725
CREATED:20180502T145220Z
LAST-MODIFIED:20180502T145220Z
UID:2385-1528416000-1528588799@grandeduwashington.com
SUMMARY:Grande Promenade
DESCRIPTION:Click HERE for downloadable registration form.
URL:https://grandeduwashington.com/event/grande-promenade/
LOCATION:American Legion Post 34\, 1029 West Sylvester Street \, Pasco \, WA\, 99301\, United States
CATEGORIES:Americanism,Cheminot,Community Service,Grande Promenade,Meeting,Prom,Remembrance and Appreciation,Veterans Event
END:VEVENT
END:VCALENDAR