BEGIN:VCALENDAR
VERSION:2.0
PRODID:-//Grande du Washington - ECPv6.15.13.1//NONSGML v1.0//EN
CALSCALE:GREGORIAN
METHOD:PUBLISH
X-WR-CALNAME:Grande du Washington
X-ORIGINAL-URL:https://grandeduwashington.com
X-WR-CALDESC:Events for Grande du Washington
REFRESH-INTERVAL;VALUE=DURATION:PT1H
X-Robots-Tag:noindex
X-PUBLISHED-TTL:PT1H
BEGIN:VTIMEZONE
TZID:America/Los_Angeles
BEGIN:DAYLIGHT
TZOFFSETFROM:-0800
TZOFFSETTO:-0700
TZNAME:PDT
DTSTART:20150308T100000
END:DAYLIGHT
BEGIN:STANDARD
TZOFFSETFROM:-0700
TZOFFSETTO:-0800
TZNAME:PST
DTSTART:20151101T090000
END:STANDARD
BEGIN:DAYLIGHT
TZOFFSETFROM:-0800
TZOFFSETTO:-0700
TZNAME:PDT
DTSTART:20160313T100000
END:DAYLIGHT
BEGIN:STANDARD
TZOFFSETFROM:-0700
TZOFFSETTO:-0800
TZNAME:PST
DTSTART:20161106T090000
END:STANDARD
BEGIN:DAYLIGHT
TZOFFSETFROM:-0800
TZOFFSETTO:-0700
TZNAME:PDT
DTSTART:20170312T100000
END:DAYLIGHT
BEGIN:STANDARD
TZOFFSETFROM:-0700
TZOFFSETTO:-0800
TZNAME:PST
DTSTART:20171105T090000
END:STANDARD
BEGIN:DAYLIGHT
TZOFFSETFROM:-0800
TZOFFSETTO:-0700
TZNAME:PDT
DTSTART:20180311T100000
END:DAYLIGHT
BEGIN:STANDARD
TZOFFSETFROM:-0700
TZOFFSETTO:-0800
TZNAME:PST
DTSTART:20181104T090000
END:STANDARD
BEGIN:DAYLIGHT
TZOFFSETFROM:-0800
TZOFFSETTO:-0700
TZNAME:PDT
DTSTART:20190310T100000
END:DAYLIGHT
BEGIN:STANDARD
TZOFFSETFROM:-0700
TZOFFSETTO:-0800
TZNAME:PST
DTSTART:20191103T090000
END:STANDARD
BEGIN:DAYLIGHT
TZOFFSETFROM:-0800
TZOFFSETTO:-0700
TZNAME:PDT
DTSTART:20200308T100000
END:DAYLIGHT
BEGIN:STANDARD
TZOFFSETFROM:-0700
TZOFFSETTO:-0800
TZNAME:PST
DTSTART:20201101T090000
END:STANDARD
BEGIN:DAYLIGHT
TZOFFSETFROM:-0800
TZOFFSETTO:-0700
TZNAME:PDT
DTSTART:20210314T100000
END:DAYLIGHT
BEGIN:STANDARD
TZOFFSETFROM:-0700
TZOFFSETTO:-0800
TZNAME:PST
DTSTART:20211107T090000
END:STANDARD
BEGIN:DAYLIGHT
TZOFFSETFROM:-0800
TZOFFSETTO:-0700
TZNAME:PDT
DTSTART:20220313T100000
END:DAYLIGHT
BEGIN:STANDARD
TZOFFSETFROM:-0700
TZOFFSETTO:-0800
TZNAME:PST
DTSTART:20221106T090000
END:STANDARD
BEGIN:DAYLIGHT
TZOFFSETFROM:-0800
TZOFFSETTO:-0700
TZNAME:PDT
DTSTART:20230312T100000
END:DAYLIGHT
BEGIN:STANDARD
TZOFFSETFROM:-0700
TZOFFSETTO:-0800
TZNAME:PST
DTSTART:20231105T090000
END:STANDARD
BEGIN:DAYLIGHT
TZOFFSETFROM:-0800
TZOFFSETTO:-0700
TZNAME:PDT
DTSTART:20240310T100000
END:DAYLIGHT
BEGIN:STANDARD
TZOFFSETFROM:-0700
TZOFFSETTO:-0800
TZNAME:PST
DTSTART:20241103T090000
END:STANDARD
BEGIN:DAYLIGHT
TZOFFSETFROM:-0800
TZOFFSETTO:-0700
TZNAME:PDT
DTSTART:20250309T100000
END:DAYLIGHT
BEGIN:STANDARD
TZOFFSETFROM:-0700
TZOFFSETTO:-0800
TZNAME:PST
DTSTART:20251102T090000
END:STANDARD
END:VTIMEZONE
BEGIN:VEVENT
DTSTART;VALUE=DATE:20240410
DTEND;VALUE=DATE:20240414
DTSTAMP:20260424T160134
CREATED:20231029T052142Z
LAST-MODIFIED:20231029T052142Z
UID:3673-1712707200-1713052799@grandeduwashington.com
SUMMARY:Great Western Promenade 2024
DESCRIPTION:  \nJust received this information about the Great Western Promenade in April 2024.   \nSave the date. \nFor downloadable information click HERE  \nRegistration forms and more information will be out soon.\nContact: v-99correspondant@voiture-99.com for more info. \n \n 
URL:https://grandeduwashington.com/event/great-western-promenade-2024/
LOCATION:Voiture 99 Chateau\, 7607 NE 26th Ave\, Vancouver \, WA\, 98665\, United States
CATEGORIES:Cheminot,Community Service,Meeting,Prom,Remembrance and Appreciation,Veterans Event
END:VEVENT
BEGIN:VEVENT
DTSTART;TZID=America/Los_Angeles:20200519T183000
DTEND;TZID=America/Los_Angeles:20200519T200000
DTSTAMP:20260424T160134
CREATED:20200228T194632Z
LAST-MODIFIED:20200228T194632Z
UID:2774-1589913000-1589918400@grandeduwashington.com
SUMMARY:Voiture 99 Promenade/ Cabane 99 Rendezvous
DESCRIPTION:Chateau opens at 4:00 pm \nFinancial Committee at 4:00 pm at the Bingo Parlor \nDinner at 5:30 pm \nMeetings at 6:30 pm
URL:https://grandeduwashington.com/event/voiture-99-promenade-cabane-99-rendezvous-14/
LOCATION:Voiture 99 Chateau\, 7607 NE 26th Ave\, Vancouver \, WA\, 98665\, United States
CATEGORIES:Americanism,Cheminot,Community Service,LaFemmes,Meeting,Remembrance and Appreciation,Veterans Event
END:VEVENT
BEGIN:VEVENT
DTSTART;TZID=America/Los_Angeles:20200421T183000
DTEND;TZID=America/Los_Angeles:20200421T200000
DTSTAMP:20260424T160134
CREATED:20200228T201313Z
LAST-MODIFIED:20200228T201313Z
UID:2778-1587493800-1587499200@grandeduwashington.com
SUMMARY:Voiture 99 Cheminot / Cabane 99 Cheminot
DESCRIPTION:Chateau opens at 4:00 pm \nFinancial Committee at 4:00 pm at the Bingo Parlor \nDinner at 5:30 pm \nMeetings at 6:30 pm
URL:https://grandeduwashington.com/event/voiture-99-cheminot-cabane-99-cheminot-21/
LOCATION:Voiture 99 Chateau\, 7607 NE 26th Ave\, Vancouver \, WA\, 98665\, United States
CATEGORIES:Americanism,Cheminot,Community Service,Dinner,Remembrance and Appreciation,Veterans Event
END:VEVENT
BEGIN:VEVENT
DTSTART;TZID=America/Los_Angeles:20200421T183000
DTEND;TZID=America/Los_Angeles:20200421T200000
DTSTAMP:20260424T160134
CREATED:20200228T194005Z
LAST-MODIFIED:20200228T194005Z
UID:2770-1587493800-1587499200@grandeduwashington.com
SUMMARY:Voiture 99 Cheminot / Cabane 99 Cheminot
DESCRIPTION:Chateau opens at 4:00 pm \nFinancial Committee at 4:00 pm at the Bingo Parlor \nDinner at 5:30 pm \nMeetings at 6:30 pm
URL:https://grandeduwashington.com/event/voiture-99-cheminot-cabane-99-cheminot-20/
LOCATION:Voiture 99 Chateau\, 7607 NE 26th Ave\, Vancouver \, WA\, 98665\, United States
CATEGORIES:Americanism,Cheminot,Community Service,LaFemmes,Meeting,Remembrance and Appreciation,Veterans Event
END:VEVENT
BEGIN:VEVENT
DTSTART;TZID=America/Los_Angeles:20200406T183000
DTEND;TZID=America/Los_Angeles:20200406T200000
DTSTAMP:20260424T160134
CREATED:20200228T194306Z
LAST-MODIFIED:20200228T194306Z
UID:2772-1586197800-1586203200@grandeduwashington.com
SUMMARY:Voiture 99 Promenade/ Cabane 99 Rendezvous
DESCRIPTION:Chateau opens at 4:00 pm \nFinancial Committee at 4:00 pm at the Bingo Parlor \nDinner at 5:30 pm \nMeetings at 6:30 pm
URL:https://grandeduwashington.com/event/voiture-99-promenade-cabane-99-rendezvous-13/
LOCATION:Voiture 99 Chateau\, 7607 NE 26th Ave\, Vancouver \, WA\, 98665\, United States
CATEGORIES:Americanism,Cheminot,Community Service,Dinner,LaFemmes,Meeting,Prom,Remembrance and Appreciation,Veterans Event
END:VEVENT
BEGIN:VEVENT
DTSTART;TZID=America/Los_Angeles:20200317T183000
DTEND;TZID=America/Los_Angeles:20200317T200000
DTSTAMP:20260424T160134
CREATED:20200228T193400Z
LAST-MODIFIED:20200327T022638Z
UID:2768-1584469800-1584475200@grandeduwashington.com
SUMMARY:Voiture 99 Cheminot / Cabane 99 Cheminot - Cancelled
DESCRIPTION:Cancelled\nChateau opens at 4:00 pm \nFinancial Committee at 4:00 pm at the Bingo Parlor \nDinner at 5:30 pm \nMeetings at 6:30 pm
URL:https://grandeduwashington.com/event/voiture-99-cheminot-cabane-99-cheminot-19/
LOCATION:Voiture 99 Chateau\, 7607 NE 26th Ave\, Vancouver \, WA\, 98665\, United States
CATEGORIES:Americanism,Cheminot,Community Service,Dinner,LaFemmes,Meeting,Remembrance and Appreciation,Veterans Event
END:VEVENT
BEGIN:VEVENT
DTSTART;TZID=America/Los_Angeles:20200218T183000
DTEND;TZID=America/Los_Angeles:20200218T200000
DTSTAMP:20260424T160134
CREATED:20200131T080020Z
LAST-MODIFIED:20200131T080020Z
UID:2754-1582050600-1582056000@grandeduwashington.com
SUMMARY:Voiture 99 Cheminot / Cabane 99 Cheminot
DESCRIPTION:Chateau opens at 4:00 pm \nFinancial Committee at 4:00 pm at the Bingo Parlor \nDinner at 5:30 pm \nMeetings at 6:30 pm
URL:https://grandeduwashington.com/event/voiture-99-cheminot-cabane-99-cheminot-18/
LOCATION:Voiture 99 Chateau\, 7607 NE 26th Ave\, Vancouver \, WA\, 98665\, United States
CATEGORIES:Americanism,Cheminot,Community Service,Meeting,Remembrance and Appreciation,Veterans Event
END:VEVENT
BEGIN:VEVENT
DTSTART;TZID=America/Los_Angeles:20191217T170000
DTEND;TZID=America/Los_Angeles:20191217T183000
DTSTAMP:20260424T160134
CREATED:20191123T012409Z
LAST-MODIFIED:20191123T012409Z
UID:2724-1576602000-1576607400@grandeduwashington.com
SUMMARY:Voiture 99 Christmas Dinner
DESCRIPTION:
URL:https://grandeduwashington.com/event/voiture-99-christmas-dinner/
LOCATION:Voiture 99 Boxcar Room\, 7607 NE 26th Ave. \, Vancouver \, WA\,  98665 \, United States
CATEGORIES:Americanism,Cheminot,Community Service,Dinner,LaFemmes,Remembrance and Appreciation,Veterans Event
END:VEVENT
BEGIN:VEVENT
DTSTART;TZID=America/Los_Angeles:20191119T183000
DTEND;TZID=America/Los_Angeles:20191119T200000
DTSTAMP:20260424T160134
CREATED:20191019T132905Z
LAST-MODIFIED:20191019T132905Z
UID:2702-1574188200-1574193600@grandeduwashington.com
SUMMARY:Voiture 99 Cheminot / Cabane 99 Cheminot
DESCRIPTION:Chateau opens at 4:00 pm \nFinancial Committee at 4:00 pm at the Bingo Parlor \nDinner at 5:30 pm
URL:https://grandeduwashington.com/event/voiture-99-cheminot-cabane-99-cheminot-17/
LOCATION:Voiture 99 Chateau\, 7607 NE 26th Ave\, Vancouver \, WA\, 98665\, United States
CATEGORIES:Americanism,Cheminot,Community Service,Meeting,Remembrance and Appreciation,Veterans Event
END:VEVENT
BEGIN:VEVENT
DTSTART;TZID=America/Los_Angeles:20191015T183000
DTEND;TZID=America/Los_Angeles:20191015T200000
DTSTAMP:20260424T160134
CREATED:20190725T011026Z
LAST-MODIFIED:20190725T011026Z
UID:2604-1571164200-1571169600@grandeduwashington.com
SUMMARY:Voiture 99 Cheminot / Cabane 99 Cheminot
DESCRIPTION:Chateau opens at 4:00 pm \nFinancial Committee at 4:00 pm at the Bingo Parlor \nDinner at 5:30 pm \nMeetings at 6:30 pm
URL:https://grandeduwashington.com/event/voiture-99-cheminot-cabane-99-cheminot-16/
LOCATION:Voiture 99 Chateau\, 7607 NE 26th Ave\, Vancouver \, WA\, 98665\, United States
CATEGORIES:Cheminot,Community Service,LaFemmes,Meeting,Remembrance and Appreciation
END:VEVENT
BEGIN:VEVENT
DTSTART;TZID=America/Los_Angeles:20190917T183000
DTEND;TZID=America/Los_Angeles:20190917T200000
DTSTAMP:20260424T160134
CREATED:20190725T010204Z
LAST-MODIFIED:20190725T010204Z
UID:2598-1568745000-1568750400@grandeduwashington.com
SUMMARY:Voiture 99 Cheminot / Cabane 99 Cheminot
DESCRIPTION:Chateau opens at 4:00 pm \nFinancial Committee at 4:00 pm at the Bingo Parlor \nDinner at 5:30 pm \nMeetings at 6:30 pm
URL:https://grandeduwashington.com/event/voiture-99-cheminot-cabane-99-cheminot-15/
LOCATION:Voiture 99 Chateau\, 7607 NE 26th Ave\, Vancouver \, WA\, 98665\, United States
CATEGORIES:Cheminot,Community Service,LaFemmes,Meeting,Remembrance and Appreciation,Veterans Event
END:VEVENT
BEGIN:VEVENT
DTSTART;TZID=America/Los_Angeles:20190521T183000
DTEND;TZID=America/Los_Angeles:20190521T200000
DTSTAMP:20260424T160134
CREATED:20190426T141037Z
LAST-MODIFIED:20190426T141037Z
UID:2510-1558463400-1558468800@grandeduwashington.com
SUMMARY:Voiture 99 Cheminot / Cabane 99 Cheminot
DESCRIPTION:Finance Committee will meet in the Bingo Hall at 4:00 pm\nDinner 5:30 pm\nMeetings 6:30 pm
URL:https://grandeduwashington.com/event/voiture-99-cheminot-cabane-99-cheminot-13/
LOCATION:Voiture 99 Chateau\, 7607 NE 26th Ave\, Vancouver \, WA\, 98665\, United States
CATEGORIES:Americanism,Cheminot,Community Service,Meeting,Remembrance and Appreciation,Veterans Event
END:VEVENT
BEGIN:VEVENT
DTSTART;TZID=America/Los_Angeles:20190219T183000
DTEND;TZID=America/Los_Angeles:20190219T193000
DTSTAMP:20260424T160134
CREATED:20190201T202923Z
LAST-MODIFIED:20190201T202923Z
UID:2464-1550601000-1550604600@grandeduwashington.com
SUMMARY:Voiture 99 Cheminot / Cabane 99 Cheminot
DESCRIPTION:Chateau opens at 4:00 pm \nFinancial Committee at 4:00 pm at the Bingo Parlor \nDinner at 5:30 pm \nMeetings at 6:30 pm
URL:https://grandeduwashington.com/event/voiture-99-cheminot-cabane-99-cheminot-11/
LOCATION:Voiture 99 Chateau\, 7607 NE 26th Ave\, Vancouver \, WA\, 98665\, United States
CATEGORIES:Americanism,Cheminot,Community Event,Community Service,Remembrance and Appreciation,Veterans Event
END:VEVENT
BEGIN:VEVENT
DTSTART;TZID=America/Los_Angeles:20181016T183000
DTEND;TZID=America/Los_Angeles:20181016T193000
DTSTAMP:20260424T160134
CREATED:20180930T043556Z
LAST-MODIFIED:20180930T043556Z
UID:2436-1539714600-1539718200@grandeduwashington.com
SUMMARY:Voiture 99 Cheminot / Cabane 99 Cheminot
DESCRIPTION:Voiture 99 Cheminot / Cabane 99 Cheminot\nChateau opens at 4:00 pm\nFinancial Committee at 4:00 pm at the Bingo Parlor\nDinner at 5:30 pm\nMeetings at 6:30 pm
URL:https://grandeduwashington.com/event/voiture-99-cheminot-cabane-99-cheminot-9/
LOCATION:Voiture 99 Chateau\, 7607 NE 26th Ave\, Vancouver \, WA\, 98665\, United States
CATEGORIES:Americanism,Cheminot,Community Service,Picnic,Remembrance and Appreciation,Veterans Event
END:VEVENT
BEGIN:VEVENT
DTSTART;TZID=America/Los_Angeles:20180910T080000
DTEND;TZID=America/Los_Angeles:20180910T170000
DTSTAMP:20260424T160134
CREATED:20180910T192314Z
LAST-MODIFIED:20180910T192314Z
UID:2431-1536566400-1536598800@grandeduwashington.com
SUMMARY:Voiture 99 Cheminot / Cabane 99 Cheminot
DESCRIPTION:Voiture 99 Cheminot / Cabane 99 Cheminot \nChateau opens at 4:00 pm \nFinancial Committee at 4:00 pm at the Bingo Parlor \nDinner at 5:30 pm\nMeetings at 6:30 pm
URL:https://grandeduwashington.com/event/voiture-99-cheminot-cabane-99-cheminot-8/
LOCATION:WA
CATEGORIES:Americanism,Cheminot,Community Service,Remembrance and Appreciation,Veterans Event
END:VEVENT
BEGIN:VEVENT
DTSTART;TZID=America/Los_Angeles:20180904T160000
DTEND;TZID=America/Los_Angeles:20180904T193000
DTSTAMP:20260424T160134
CREATED:20180830T172549Z
LAST-MODIFIED:20180830T172549Z
UID:2423-1536076800-1536089400@grandeduwashington.com
SUMMARY:Voiture 99 Prom & Cheminot/ Cabane 99 Rendezvous
DESCRIPTION:Voiture 99 Prom & Cheminot/ Cabane 99 Rendezvous\n\nSeptember 4 @ 4:00 pm – 7:30 pm\n\n\n\nCheminot begins at 4:00 pm \nDinner at 5:30 pm \nPromenade at 7:00 pm
URL:https://grandeduwashington.com/event/voiture-99-prom-cheminot-cabane-99-rendezvous/
LOCATION:Voiture 99 Chateau\, 7607 NE 26th Ave\, Vancouver \, WA\, 98665\, United States
CATEGORIES:Americanism,Cheminot,Meeting,Prom,Remembrance and Appreciation
END:VEVENT
BEGIN:VEVENT
DTSTART;VALUE=DATE:20180608
DTEND;VALUE=DATE:20180610
DTSTAMP:20260424T160134
CREATED:20180502T145220Z
LAST-MODIFIED:20180502T145220Z
UID:2385-1528416000-1528588799@grandeduwashington.com
SUMMARY:Grande Promenade
DESCRIPTION:Click HERE for downloadable registration form.
URL:https://grandeduwashington.com/event/grande-promenade/
LOCATION:American Legion Post 34\, 1029 West Sylvester Street \, Pasco \, WA\, 99301\, United States
CATEGORIES:Americanism,Cheminot,Community Service,Grande Promenade,Meeting,Prom,Remembrance and Appreciation,Veterans Event
END:VEVENT
BEGIN:VEVENT
DTSTART;TZID=America/Los_Angeles:20180515T183000
DTEND;TZID=America/Los_Angeles:20180515T193000
DTSTAMP:20260424T160134
CREATED:20180502T150859Z
LAST-MODIFIED:20180502T150859Z
UID:2395-1526409000-1526412600@grandeduwashington.com
SUMMARY:Voiture 99 Cheminot / Cabane 99 Cheminot
DESCRIPTION:Voiture 99 Cheminot / Cabane 99 Cheminot \nFinancial Committee at 4:00 pm at the Bingo Parlor \nDinner at 5:30 pm \nCheminot Meeting 6:30 pm
URL:https://grandeduwashington.com/event/voiture-99-cheminot-cabane-99-cheminot-6/
LOCATION:Voiture 99 Chateau\, 7607 NE 26th Ave\, Vancouver \, WA\, 98665\, United States
CATEGORIES:Americanism,Cheminot,Community Service,Veterans Event
END:VEVENT
BEGIN:VEVENT
DTSTART;TZID=America/Los_Angeles:20180220T183000
DTEND;TZID=America/Los_Angeles:20180220T193000
DTSTAMP:20260424T160134
CREATED:20180126T071607Z
LAST-MODIFIED:20180126T071607Z
UID:2307-1519151400-1519155000@grandeduwashington.com
SUMMARY:Voiture 99 Cheminot / Cabane 99 Cheminot
DESCRIPTION:Monthly Business meetings held on the third\nTuesday of every month. \nDinner 5:30 pm\, Cost $8.00 \nMeetings  6:30 pm  (Members only during meetings) \n 
URL:https://grandeduwashington.com/event/voiture-99-cheminot-cabane-99-cheminot-4/
LOCATION:Voiture 99 Chateau\, 7607 NE 26th Ave\, Vancouver \, WA\, 98665\, United States
CATEGORIES:Americanism,Cheminot,Remembrance and Appreciation,Veterans Event
END:VEVENT
BEGIN:VEVENT
DTSTART;TZID=America/Los_Angeles:20171219T183000
DTEND;TZID=America/Los_Angeles:20171219T193000
DTSTAMP:20260424T160134
CREATED:20161125T194019Z
LAST-MODIFIED:20170908T012546Z
UID:2076-1513708200-1513711800@grandeduwashington.com
SUMMARY:Voiture 99 Cheminot / Cabane 99 Cheminot
DESCRIPTION:Monthly Voiture Business meeting on the third Tuesday of every month.\nMembers Only \nDinner 5:30 pm\nMeeting  6:30 pm  (Members only during meeting)
URL:https://grandeduwashington.com/event/voiture-99-cheminot-3/
LOCATION:Voiture 99 Chateau\, 7607 NE 26th Ave\, Vancouver \, WA\, 98665\, United States
CATEGORIES:Americanism,Cheminot,Remembrance and Appreciation,Veterans Event
END:VEVENT
BEGIN:VEVENT
DTSTART;TZID=America/Los_Angeles:20171121T183000
DTEND;TZID=America/Los_Angeles:20171121T193000
DTSTAMP:20260424T160134
CREATED:20161125T193631Z
LAST-MODIFIED:20170908T012259Z
UID:2074-1511289000-1511292600@grandeduwashington.com
SUMMARY:Voiture 99 Cheminot / Cabane 99 Cheminot
DESCRIPTION:Monthly Voiture Business meeting on the third Tuesday of every month.\nMembers Only \nDinner 5:30 pm\nMeeting  6:30 pm  (Members only during meeting)
URL:https://grandeduwashington.com/event/voiture-99-cheminot-2/
LOCATION:Voiture 99 Chateau\, 7607 NE 26th Ave\, Vancouver \, WA\, 98665\, United States
CATEGORIES:Americanism,Cheminot,Remembrance and Appreciation,Veterans Event
END:VEVENT
BEGIN:VEVENT
DTSTART;TZID=America/Los_Angeles:20171017T183000
DTEND;TZID=America/Los_Angeles:20171017T193000
DTSTAMP:20260424T160134
CREATED:20170908T004857Z
LAST-MODIFIED:20170908T004857Z
UID:2245-1508265000-1508268600@grandeduwashington.com
SUMMARY:Voiture 99 Cheminot / Cabane 99 Cheminot
DESCRIPTION:Voiture 99 Cheminot / Cabane 99 Cheminot \nDinner at 5:30 pm \nMeeting 6:30 pm
URL:https://grandeduwashington.com/event/voiture-99-cheminot-cabane-99-cheminot-2/
LOCATION:Voiture 99 Chateau\, 7607 NE 26th Ave\, Vancouver \, WA\, 98665\, United States
CATEGORIES:Americanism,Cheminot,Remembrance and Appreciation,Veterans Event
END:VEVENT
BEGIN:VEVENT
DTSTART;TZID=America/Los_Angeles:20170418T173000
DTEND;TZID=America/Los_Angeles:20170418T193000
DTSTAMP:20260424T160134
CREATED:20170330T203247Z
LAST-MODIFIED:20170330T203247Z
UID:2193-1492536600-1492543800@grandeduwashington.com
SUMMARY:V99 Cheminot / C99 Cheminot
DESCRIPTION:V99 Cheminot / C99 Cheminot \nDinner at 5:30 pm \nMeeting 6:30 pm
URL:https://grandeduwashington.com/event/v99-cheminot-c99-cheminot/
LOCATION:WA
CATEGORIES:Americanism,Cheminot,Veterans Event
END:VEVENT
BEGIN:VEVENT
DTSTART;TZID=America/Los_Angeles:20170321T173000
DTEND;TZID=America/Los_Angeles:20170321T193000
DTSTAMP:20260424T160134
CREATED:20170330T201731Z
LAST-MODIFIED:20170330T201731Z
UID:2189-1490117400-1490124600@grandeduwashington.com
SUMMARY:Voiture 99 Cheminot / Cabane 99 Cheminot
DESCRIPTION:Voiture 99 Cheminot / Cabane 99 Cheminot \nDinner at 5:30 pm \nMeeting 6:30 pm
URL:https://grandeduwashington.com/event/voiture-99-cheminot-cabane-99-cheminot/
LOCATION:WA
CATEGORIES:Americanism,Cheminot,Veterans Event
END:VEVENT
BEGIN:VEVENT
DTSTART;TZID=America/Los_Angeles:20161220T183000
DTEND;TZID=America/Los_Angeles:20161220T193000
DTSTAMP:20260424T160134
CREATED:20161125T191057Z
LAST-MODIFIED:20161220T004633Z
UID:2060-1482258600-1482262200@grandeduwashington.com
SUMMARY:Voiture 99 Cheminot
DESCRIPTION:Voiture Business meeting held on the second Tuesday of each month. \nDinner 5:30 pm\, cost $8.00\nPromenade 6:30 to 7:30
URL:https://grandeduwashington.com/event/voiture-99-cheminot/
LOCATION:WA
CATEGORIES:Cheminot,Veterans Event
ATTACH;FMTTYPE=image/gif:https://grandeduwashington.com/wp-content/uploads/2016/11/408clean3.gif
END:VEVENT
END:VCALENDAR