BEGIN:VCALENDAR
VERSION:2.0
PRODID:-//Grande du Washington - ECPv6.15.13.1//NONSGML v1.0//EN
CALSCALE:GREGORIAN
METHOD:PUBLISH
X-ORIGINAL-URL:https://grandeduwashington.com
X-WR-CALDESC:Events for Grande du Washington
REFRESH-INTERVAL;VALUE=DURATION:PT1H
X-Robots-Tag:noindex
X-PUBLISHED-TTL:PT1H
BEGIN:VTIMEZONE
TZID:America/Los_Angeles
BEGIN:DAYLIGHT
TZOFFSETFROM:-0800
TZOFFSETTO:-0700
TZNAME:PDT
DTSTART:20160313T100000
END:DAYLIGHT
BEGIN:STANDARD
TZOFFSETFROM:-0700
TZOFFSETTO:-0800
TZNAME:PST
DTSTART:20161106T090000
END:STANDARD
BEGIN:DAYLIGHT
TZOFFSETFROM:-0800
TZOFFSETTO:-0700
TZNAME:PDT
DTSTART:20170312T100000
END:DAYLIGHT
BEGIN:STANDARD
TZOFFSETFROM:-0700
TZOFFSETTO:-0800
TZNAME:PST
DTSTART:20171105T090000
END:STANDARD
BEGIN:DAYLIGHT
TZOFFSETFROM:-0800
TZOFFSETTO:-0700
TZNAME:PDT
DTSTART:20180311T100000
END:DAYLIGHT
BEGIN:STANDARD
TZOFFSETFROM:-0700
TZOFFSETTO:-0800
TZNAME:PST
DTSTART:20181104T090000
END:STANDARD
BEGIN:DAYLIGHT
TZOFFSETFROM:-0800
TZOFFSETTO:-0700
TZNAME:PDT
DTSTART:20190310T100000
END:DAYLIGHT
BEGIN:STANDARD
TZOFFSETFROM:-0700
TZOFFSETTO:-0800
TZNAME:PST
DTSTART:20191103T090000
END:STANDARD
BEGIN:DAYLIGHT
TZOFFSETFROM:-0800
TZOFFSETTO:-0700
TZNAME:PDT
DTSTART:20200308T100000
END:DAYLIGHT
BEGIN:STANDARD
TZOFFSETFROM:-0700
TZOFFSETTO:-0800
TZNAME:PST
DTSTART:20201101T090000
END:STANDARD
END:VTIMEZONE
BEGIN:VEVENT
DTSTART;VALUE=DATE:20190911
DTEND;VALUE=DATE:20190912
DTSTAMP:20260424T210350
CREATED:20190601T053045Z
LAST-MODIFIED:20190819T070235Z
UID:2558-1568160000-1568246399@grandeduwashington.com
SUMMARY:Patriot Day
DESCRIPTION:Observe Patriot Day                                                                  On the direction of the President\, the flag of the United States of America should be displayed on the homes of Americans\, the White House and all United States government buildings in the whole world. The flag should be flown at half-staff as a mark of respect to those who died on September 11\, 2001. Many people observe a moment of silence at 8:46 AM (Eastern Daylight Time). This marks the time that the first plane flew into the World Trade Center. Some communities\, particularly in the areas directly affected by the attacks\, hold special church services or prayer meetings. People who personally experienced the events in 2001 or lost loved ones in them\, may lay flowers or visit memorials. \nPublic Life\nPatriot Day is not a federal holiday and schools and businesses do not close. Public transit systems run on their regular schedules. Some people and organizations may take some time out to hold prayers for the victims of the attacks\, but these do not usually affect public life for more than a few minutes. \nAbout Patriot Day\nOn September 11\, 2001\, four planes were hijacked. The hijackers then deliberately flew three of the planes into two important buildings\, the Pentagon in Washington DC and the Twin Towers of the World Trade Center in New York. The fourth crashed into a field near Shanksville\, Pennsylvania. The loss of life and damage that these hijackings caused form the biggest act of terrorism ever on United States soil. Nearly 3000 people died in the attacks and the economic impact was immense. \nThe attacks have greatly increased attention to national security in the United States. This has had huge implications for United States national and international politics. This is particularly true for the relationships between the United States and Islamic countries in the Middle East. \nSymbols\nThe most potent symbol of the events that happened on September 11\, 2001 are pictures and videos of planes flying into buildings\, of the Twin Towers of the World Trade Center engulfed in smoke and later collapsing and of people falling from buildings. Pictures taken of damaged buildings and relatives looking for loved ones in the days and weeks after the attacks are also often shown. The flag of the United States is often displayed around images of the events on September 11\, 2001. This is to remind Americans that their country remained strong in the face of massive terrorist attacks. \nPatriot Day should not be confused with Patriot’s Day\, also known as Patriots Day\, which commemorates the battles of Lexington and Concord in 1775\, which were two of the earliest battles in the American Revolutionary War.
URL:https://grandeduwashington.com/event/patriot-day/
LOCATION:WA
CATEGORIES:Americanism,Community Event,Community Service,History,Remembrance and Appreciation
END:VEVENT
BEGIN:VEVENT
DTSTART;TZID=America/Los_Angeles:20190907T130000
DTEND;TZID=America/Los_Angeles:20190907T190000
DTSTAMP:20260424T210350
CREATED:20190725T004438Z
LAST-MODIFIED:20190725T004438Z
UID:2581-1567861200-1567882800@grandeduwashington.com
SUMMARY:Voiture 99 Annual Saturday BBQ
DESCRIPTION:
URL:https://grandeduwashington.com/event/voiture-99-annual-saturday-bbq-7/
LOCATION:Voiture 99 Chateau\, 7607 NE 26th Ave\, Vancouver \, WA\, 98665\, United States
CATEGORIES:Community Event,Community Service,Picnic
END:VEVENT
BEGIN:VEVENT
DTSTART;TZID=America/Los_Angeles:20190903T160000
DTEND;TZID=America/Los_Angeles:20190903T210000
DTSTAMP:20260424T210350
CREATED:20190725T005629Z
LAST-MODIFIED:20190725T005629Z
UID:2594-1567526400-1567544400@grandeduwashington.com
SUMMARY:40 et 8 Cruise Inn
DESCRIPTION:
URL:https://grandeduwashington.com/event/40-et-8-cruise-inn-6/
LOCATION:Voiture 99 Chateau\, 7607 NE 26th Ave\, Vancouver \, WA\, 98665\, United States
CATEGORIES:Car Show,Community Event,Community Service
END:VEVENT
BEGIN:VEVENT
DTSTART;VALUE=DATE:20190902
DTEND;VALUE=DATE:20190903
DTSTAMP:20260424T210350
CREATED:20190814T222255Z
LAST-MODIFIED:20190815T233322Z
UID:2617-1567382400-1567468799@grandeduwashington.com
SUMMARY:2nd Annual 40et8 Labor Day Car Show
DESCRIPTION:
URL:https://grandeduwashington.com/event/2nd-annual-40et8-labor-day-car-show/
LOCATION:Voiture 99 Chateau\, 7607 NE 26th Ave\, Vancouver \, WA\, 98665\, United States
CATEGORIES:Americanism,Car Show,Community Event,Community Service,Fundraiser,Remembrance and Appreciation
END:VEVENT
BEGIN:VEVENT
DTSTART;TZID=America/Los_Angeles:20190831T130000
DTEND;TZID=America/Los_Angeles:20190831T190000
DTSTAMP:20260424T210350
CREATED:20190725T004302Z
LAST-MODIFIED:20190725T004302Z
UID:2579-1567256400-1567278000@grandeduwashington.com
SUMMARY:Voiture 99 Annual Saturday BBQ
DESCRIPTION:
URL:https://grandeduwashington.com/event/voiture-99-annual-saturday-bbq-6/
LOCATION:Voiture 99 Chateau\, 7607 NE 26th Ave\, Vancouver \, WA\, 98665\, United States
CATEGORIES:Community Event,Community Service,Picnic
END:VEVENT
BEGIN:VEVENT
DTSTART;TZID=America/Los_Angeles:20190827T160000
DTEND;TZID=America/Los_Angeles:20190827T210000
DTSTAMP:20260424T210350
CREATED:20190725T005500Z
LAST-MODIFIED:20190725T005500Z
UID:2592-1566921600-1566939600@grandeduwashington.com
SUMMARY:40 et 8 Cruise Inn
DESCRIPTION:
URL:https://grandeduwashington.com/event/40-et-8-cruise-inn-5/
LOCATION:Voiture 99 Chateau\, 7607 NE 26th Ave\, Vancouver \, WA\, 98665\, United States
CATEGORIES:Car Show,Community Event,Community Service
END:VEVENT
BEGIN:VEVENT
DTSTART;TZID=America/Los_Angeles:20190824T130000
DTEND;TZID=America/Los_Angeles:20190824T190000
DTSTAMP:20260424T210350
CREATED:20190725T004137Z
LAST-MODIFIED:20190725T004137Z
UID:2577-1566651600-1566673200@grandeduwashington.com
SUMMARY:Voiture 99 Annual Saturday BBQ
DESCRIPTION:
URL:https://grandeduwashington.com/event/voiture-99-annual-saturday-bbq-5/
LOCATION:Voiture 99 Chateau\, 7607 NE 26th Ave\, Vancouver \, WA\, 98665\, United States
CATEGORIES:Community Event,Community Service,Picnic
END:VEVENT
BEGIN:VEVENT
DTSTART;TZID=America/Los_Angeles:20190820T160000
DTEND;TZID=America/Los_Angeles:20190820T210000
DTSTAMP:20260424T210350
CREATED:20190725T005335Z
LAST-MODIFIED:20190725T005335Z
UID:2590-1566316800-1566334800@grandeduwashington.com
SUMMARY:40 et 8 Cruise Inn
DESCRIPTION:
URL:https://grandeduwashington.com/event/40-et-8-cruise-inn-4/
LOCATION:Voiture 99 Chateau\, 7607 NE 26th Ave\, Vancouver \, WA\, 98665\, United States
CATEGORIES:Car Show,Community Event,Community Service
END:VEVENT
BEGIN:VEVENT
DTSTART;TZID=America/Los_Angeles:20190817T130000
DTEND;TZID=America/Los_Angeles:20190817T190000
DTSTAMP:20260424T210350
CREATED:20190725T004000Z
LAST-MODIFIED:20190725T004000Z
UID:2575-1566046800-1566068400@grandeduwashington.com
SUMMARY:Voiture 99 Annual Saturday BBQ
DESCRIPTION:
URL:https://grandeduwashington.com/event/voiture-99-annual-saturday-bbq-4/
LOCATION:Voiture 99 Chateau\, 7607 NE 26th Ave\, Vancouver \, WA\, 98665\, United States
CATEGORIES:Community Event,Community Service,Picnic
END:VEVENT
BEGIN:VEVENT
DTSTART;TZID=America/Los_Angeles:20190813T160000
DTEND;TZID=America/Los_Angeles:20190813T210000
DTSTAMP:20260424T210350
CREATED:20190725T005156Z
LAST-MODIFIED:20190725T005156Z
UID:2588-1565712000-1565730000@grandeduwashington.com
SUMMARY:40 et 8 Cruise Inn
DESCRIPTION:
URL:https://grandeduwashington.com/event/40-et-8-cruise-inn-3/
LOCATION:Voiture 99 Chateau\, 7607 NE 26th Ave\, Vancouver \, WA\, 98665\, United States
CATEGORIES:Car Show,Community Event,Community Service
END:VEVENT
BEGIN:VEVENT
DTSTART;TZID=America/Los_Angeles:20190810T130000
DTEND;TZID=America/Los_Angeles:20190810T190000
DTSTAMP:20260424T210350
CREATED:20190725T003821Z
LAST-MODIFIED:20190725T003821Z
UID:2573-1565442000-1565463600@grandeduwashington.com
SUMMARY:Voiture 99 Annual Saturday BBQ
DESCRIPTION:
URL:https://grandeduwashington.com/event/voiture-99-annual-saturday-bbq-3/
LOCATION:Voiture 99 Chateau\, 7607 NE 26th Ave\, Vancouver \, WA\, 98665\, United States
CATEGORIES:Community Event,Community Service,Picnic
END:VEVENT
BEGIN:VEVENT
DTSTART;TZID=America/Los_Angeles:20190806T160000
DTEND;TZID=America/Los_Angeles:20190806T210000
DTSTAMP:20260424T210350
CREATED:20190725T005024Z
LAST-MODIFIED:20190725T005024Z
UID:2586-1565107200-1565125200@grandeduwashington.com
SUMMARY:40 et 8 Cruise Inn
DESCRIPTION:
URL:https://grandeduwashington.com/event/40-et-8-cruise-inn-2/
LOCATION:Voiture 99 Chateau\, 7607 NE 26th Ave\, Vancouver \, WA\, 98665\, United States
CATEGORIES:Car Show,Community Event,Community Service
END:VEVENT
BEGIN:VEVENT
DTSTART;TZID=America/Los_Angeles:20190804T130000
DTEND;TZID=America/Los_Angeles:20190804T190000
DTSTAMP:20260424T210350
CREATED:20190428T124938Z
LAST-MODIFIED:20190428T125852Z
UID:2520-1564923600-1564945200@grandeduwashington.com
SUMMARY:American Legion Tee-Off for Troops
DESCRIPTION:
URL:https://grandeduwashington.com/event/2520/
LOCATION:Tri Mountain Golf Course\, 1701 NW 299th Street \, Ridgefield \, WA\, United States
CATEGORIES:Americanism,Community Event,Community Service,Fundraiser,Remembrance and Appreciation,Sporting event
END:VEVENT
BEGIN:VEVENT
DTSTART;TZID=America/Los_Angeles:20190803T130000
DTEND;TZID=America/Los_Angeles:20190803T190000
DTSTAMP:20260424T210350
CREATED:20190725T003647Z
LAST-MODIFIED:20190725T003647Z
UID:2571-1564837200-1564858800@grandeduwashington.com
SUMMARY:Voiture 99 Annual Saturday BBQ
DESCRIPTION:
URL:https://grandeduwashington.com/event/voiture-99-annual-saturday-bbq-2/
LOCATION:Voiture 99 Chateau\, 7607 NE 26th Ave\, Vancouver \, WA\, 98665\, United States
CATEGORIES:Community Event,Community Service,Picnic
END:VEVENT
BEGIN:VEVENT
DTSTART;TZID=America/Los_Angeles:20190730T160000
DTEND;TZID=America/Los_Angeles:20190730T210000
DTSTAMP:20260424T210350
CREATED:20190725T004845Z
LAST-MODIFIED:20190725T004845Z
UID:2583-1564502400-1564520400@grandeduwashington.com
SUMMARY:40 et 8 Cruise Inn
DESCRIPTION:
URL:https://grandeduwashington.com/event/40-et-8-cruise-inn/
LOCATION:Voiture 99 Chateau\, 7607 NE 26th Ave\, Vancouver \, WA\, 98665\, United States
CATEGORIES:Car Show,Community Event,Community Service
END:VEVENT
BEGIN:VEVENT
DTSTART;TZID=America/Los_Angeles:20190727T130000
DTEND;TZID=America/Los_Angeles:20190727T190000
DTSTAMP:20260424T210350
CREATED:20190725T003258Z
LAST-MODIFIED:20190725T003258Z
UID:2567-1564232400-1564254000@grandeduwashington.com
SUMMARY:Voiture 99 Annual Saturday BBQ
DESCRIPTION:
URL:https://grandeduwashington.com/event/voiture-99-annual-saturday-bbq/
LOCATION:Voiture 99 Chateau\, 7607 NE 26th Ave\, Vancouver \, WA\, 98665\, United States
CATEGORIES:Community Event,Community Service,Picnic
END:VEVENT
BEGIN:VEVENT
DTSTART;VALUE=DATE:20190621
DTEND;VALUE=DATE:20190623
DTSTAMP:20260424T210350
CREATED:20190428T132933Z
LAST-MODIFIED:20190428T132933Z
UID:2530-1561075200-1561247999@grandeduwashington.com
SUMMARY:LeFemme's Annual Rummage Sale
DESCRIPTION:
URL:https://grandeduwashington.com/event/lefemmes-annual-rummage-sale/
LOCATION:Voiture 99 Boxcar Room\, 7607 NE 26th Ave. \, Vancouver \, WA\,  98665 \, United States
CATEGORIES:Americanism,Community Event,Community Service,Fundraiser,LaFemmes,Remembrance and Appreciation
END:VEVENT
BEGIN:VEVENT
DTSTART;TZID=America/Los_Angeles:20190516T183000
DTEND;TZID=America/Los_Angeles:20190516T193000
DTSTAMP:20260424T210350
CREATED:20190426T142116Z
LAST-MODIFIED:20190426T142116Z
UID:2512-1558031400-1558035000@grandeduwashington.com
SUMMARY:Military History Talk
DESCRIPTION:The Portland Metro Area Response Plan in World War II\nWhen the United States entered World War II\, it was the first time since the War of 1812 that the United States feared a full-scale enemy invasion. Across the country\, as military bases beefed up their security and war plans\, so did civilian governments. In Portland\, Oregon\, the city developed and implemented a comprehensive plan to combat enemy attacks\, as well as implementing the changes necessary at home to support the war effort abroad. These plans included the City of Vancouver. \nSpeakers: Mr. Paul Fanning
URL:https://grandeduwashington.com/event/military-history-talk/
LOCATION:Marshall House\, 1301 Officer's Row \, Vancouver \, WA\, 98661 \, United States
CATEGORIES:Americanism,Community Event,Community Service,History,Meeting,Remembrance and Appreciation
END:VEVENT
BEGIN:VEVENT
DTSTART;TZID=America/Los_Angeles:20190505T150000
DTEND;TZID=America/Los_Angeles:20190505T180000
DTSTAMP:20260424T210350
CREATED:20190426T143219Z
LAST-MODIFIED:20190426T143219Z
UID:2516-1557068400-1557079200@grandeduwashington.com
SUMMARY:Cinco de Mayo – Big Money Night at 40 et 8 Bingo
DESCRIPTION:Sunday\, May 5th\, 3:00 pm\n(Doors open at 1:00 pm) \n$25 for the first packet\, $10 each additional\, paying $1000\n4- $1199 Blackouts\nPick 8 & Bonanza guaranteed $500 \nEnchilada dinner\, pre-bingo games and giveaways included with buy-in\n(1:00 pm-2:30 pm or while it lasts!) \nONE SESSION ONLY! \nWe have reserved seating with a machine available for a non refundable $20 donation to our 40 et 8 programs.\nCome in and ask for a manager. We will get you your favorite spot!
URL:https://grandeduwashington.com/event/cinco-de-mayo-big-money-night-at-40-et-8-bingo/
LOCATION:Voiture 99 Bingo Parlor\, 7607 NE 26th Ave. \, Vancouver\, WA\, 98665\, United States
CATEGORIES:Americanism,Community Event,Community Service
END:VEVENT
BEGIN:VEVENT
DTSTART;VALUE=DATE:20190329
DTEND;VALUE=DATE:20190330
DTSTAMP:20260424T210350
CREATED:20190312T132602Z
LAST-MODIFIED:20190312T132602Z
UID:2499-1553817600-1553903999@grandeduwashington.com
SUMMARY:National Vietnam War Veterans Day
DESCRIPTION:On behalf of the Department of Veterans Affairs and the Veterans we are deeply honored to serve\, I want to say thank you to our country’s more than six-and-a-half million living Vietnam Veterans and their families. \nWelcome home! \nTwo years ago\, President Trump signed the Vietnam War Veterans Recognition Act into law. That Act designates every March 29 as National Vietnam War Veterans Day. It was March 29\, 1973\, when the last of our combat troops left Vietnam. \nIt was on that day that the last American prisoners of war held in North Vietnam came home. \nVietnam War Veterans Day is part of our nation’s ongoing commemoration of the 50th anniversary of the Vietnam War. \nIn support\, VA and more than 10\,000 local\, state\, and national organizations join the Department of Defense as Commemorative Partners. \nWe honor the nine million American men and women who served on active duty from November 1\, 1955\, to May 7\, 1975.  We solemnly remember more than 58\,000 whose names are etched into the Vietnam Memorial’s polished black granite—constant reminders of the price of freedom. \nTake advantage of the opportunities this commemoration encourages and show your gratitude to this noble generation of American service members.
URL:https://grandeduwashington.com/event/national-vietnam-war-veterans-day/
LOCATION:WA
CATEGORIES:Americanism,Community Event,Community Service,Remembrance and Appreciation
END:VEVENT
BEGIN:VEVENT
DTSTART;TZID=America/Los_Angeles:20190316T090000
DTEND;TZID=America/Los_Angeles:20190316T160000
DTSTAMP:20260424T210350
CREATED:20190221T101220Z
LAST-MODIFIED:20190221T101220Z
UID:2472-1552726800-1552752000@grandeduwashington.com
SUMMARY:La Femmes Annual Used Book Sale
DESCRIPTION:
URL:https://grandeduwashington.com/event/la-femmes-annual-used-book-sale-2/
LOCATION:Voiture 99 Boxcar Room\, 7607 NE 26th Ave. \, Vancouver \, WA\,  98665 \, United States
CATEGORIES:Community Event,Community Service,Fundraiser,LaFemmes
END:VEVENT
BEGIN:VEVENT
DTSTART;TZID=America/Los_Angeles:20190315T090000
DTEND;TZID=America/Los_Angeles:20190315T160000
DTSTAMP:20260424T210350
CREATED:20190221T101005Z
LAST-MODIFIED:20190221T101005Z
UID:2469-1552640400-1552665600@grandeduwashington.com
SUMMARY:La Femmes Annual Used Book Sale
DESCRIPTION:
URL:https://grandeduwashington.com/event/la-femmes-annual-used-book-sale/
LOCATION:Voiture 99 Boxcar Room\, 7607 NE 26th Ave. \, Vancouver \, WA\,  98665 \, United States
CATEGORIES:Community Event,Community Service,Fundraiser,LaFemmes
END:VEVENT
BEGIN:VEVENT
DTSTART;TZID=America/Los_Angeles:20190219T183000
DTEND;TZID=America/Los_Angeles:20190219T193000
DTSTAMP:20260424T210350
CREATED:20190201T202923Z
LAST-MODIFIED:20190201T202923Z
UID:2464-1550601000-1550604600@grandeduwashington.com
SUMMARY:Voiture 99 Cheminot / Cabane 99 Cheminot
DESCRIPTION:Chateau opens at 4:00 pm \nFinancial Committee at 4:00 pm at the Bingo Parlor \nDinner at 5:30 pm \nMeetings at 6:30 pm
URL:https://grandeduwashington.com/event/voiture-99-cheminot-cabane-99-cheminot-11/
LOCATION:Voiture 99 Chateau\, 7607 NE 26th Ave\, Vancouver \, WA\, 98665\, United States
CATEGORIES:Americanism,Cheminot,Community Event,Community Service,Remembrance and Appreciation,Veterans Event
END:VEVENT
BEGIN:VEVENT
DTSTART;TZID=America/Los_Angeles:20190207T190000
DTEND;TZID=America/Los_Angeles:20190207T200000
DTSTAMP:20260424T210350
CREATED:20190201T202134Z
LAST-MODIFIED:20190201T202134Z
UID:2459-1549566000-1549569600@grandeduwashington.com
SUMMARY:Lewis County Voiture 83 Promenade
DESCRIPTION:
URL:https://grandeduwashington.com/event/lewis-county-voiture-83-promenade/
LOCATION:Chehalis Eagles\, 1993 S Market Blvd\, Chehalis\, WA\, 98532 \, United States
CATEGORIES:Americanism,Community Event,Community Service,Prom,Remembrance and Appreciation,Veterans Event
ORGANIZER;CN="Lewis Co. Voiture 83":MAILTO:tomboone1146@yahoo.com 
END:VEVENT
BEGIN:VEVENT
DTSTART;TZID=America/Los_Angeles:20190204T183000
DTEND;TZID=America/Los_Angeles:20190204T193000
DTSTAMP:20260424T210350
CREATED:20190201T202619Z
LAST-MODIFIED:20190201T202619Z
UID:2462-1549305000-1549308600@grandeduwashington.com
SUMMARY:Voiture 99 Promenade/ Cabane 99 Rendezvous
DESCRIPTION:Finance Committee will meet in the Bingo Hall at 4:00 pm \nDinner 5:30 pm \nMeetings 6:30 pm
URL:https://grandeduwashington.com/event/voiture-99-promenade-cabane-99-rendezvous-5/
LOCATION:Voiture 99 Chateau\, 7607 NE 26th Ave\, Vancouver \, WA\, 98665\, United States
CATEGORIES:Americanism,Community Event,Community Service,Prom,Remembrance and Appreciation,Veterans Event
END:VEVENT
BEGIN:VEVENT
DTSTART;TZID=America/Los_Angeles:20181001T183000
DTEND;TZID=America/Los_Angeles:20181001T193000
DTSTAMP:20260424T210350
CREATED:20180910T191832Z
LAST-MODIFIED:20180910T191832Z
UID:2429-1538418600-1538422200@grandeduwashington.com
SUMMARY:V99 Prom /C99 Rendezvous
DESCRIPTION:V99 Prom /C99 Rendezvous \nOctober 1 @ 6:30 pm – 7:30 pm\n\n\nChateau opens at 4:00 pm\n\n\nDinner at 5:30 pm \nV99 Prom /C99 Rendezvous 6:30 pm
URL:https://grandeduwashington.com/event/v99-prom-c99-rendezvous-3/
LOCATION:Voiture 99 Chateau\, 7607 NE 26th Ave\, Vancouver \, WA\, 98665\, United States
CATEGORIES:Americanism,Community Event,Community Service,Prom,Remembrance and Appreciation
END:VEVENT
BEGIN:VEVENT
DTSTART;TZID=America/Los_Angeles:20180903T100000
DTEND;TZID=America/Los_Angeles:20180903T150000
DTSTAMP:20260424T210350
CREATED:20180406T070605Z
LAST-MODIFIED:20180406T070605Z
UID:2353-1535968800-1535986800@grandeduwashington.com
SUMMARY:Veterans Car and Motorcycle Show
DESCRIPTION:
URL:https://grandeduwashington.com/event/veterans-car-and-motorcycle-show/
LOCATION:Voiture 99 Chateau\, 7607 NE 26th Ave\, Vancouver \, WA\, 98665\, United States
CATEGORIES:Americanism,Community Event,Community Service,Fundraiser
END:VEVENT
BEGIN:VEVENT
DTSTART;VALUE=DATE:20180406
DTEND;VALUE=DATE:20180408
DTSTAMP:20260424T210350
CREATED:20180331T093739Z
LAST-MODIFIED:20180331T093739Z
UID:2343-1522972800-1523145599@grandeduwashington.com
SUMMARY:Cabane 99 Annual Book Sale
DESCRIPTION:
URL:https://grandeduwashington.com/event/cabane-99-annual-book-sale/
LOCATION:WA
CATEGORIES:Americanism,Community Event,Community Service,Fundraiser
END:VEVENT
BEGIN:VEVENT
DTSTART;TZID=America/Los_Angeles:20170916T120000
DTEND;TZID=America/Los_Angeles:20170916T170000
DTSTAMP:20260424T210350
CREATED:20170908T001852Z
LAST-MODIFIED:20170908T001852Z
UID:2229-1505563200-1505581200@grandeduwashington.com
SUMMARY:Voiture 83 Veterans Picnic
DESCRIPTION:Come join us at the Veterans Picnic in Onalaska a week from this Saturday on  Sept. 16\nat the Veterans Memorial Park  at the intersection of Leonard Road & Hwy 508.\n\nThe Park is located at the corner of State Route 508 and Leonard Road. This park helps our community to honor our Onalaska area military veterans for their service and Sacrifice. The park is maintained by the Richard D. Emigh American Legion Post #508.
URL:https://grandeduwashington.com/event/voiture-83-veterans-picnic/
LOCATION:Veterans Memorial Park\, 1151 Roosevelt Ave\, Enumclaw\, WA\, 98022\, United States
CATEGORIES:Americanism,Community Event,Picnic
END:VEVENT
BEGIN:VEVENT
DTSTART;TZID=America/Los_Angeles:20170401T170000
DTEND;TZID=America/Los_Angeles:20170401T190000
DTSTAMP:20260424T210350
CREATED:20170304T084050Z
LAST-MODIFIED:20170304T084050Z
UID:2180-1491066000-1491073200@grandeduwashington.com
SUMMARY:Flags for First Graders Chili Tasting Fundraiser
DESCRIPTION:
URL:https://grandeduwashington.com/event/flags-for-first-graders-chili-tasting-fundraiser/
LOCATION:WA
CATEGORIES:Americanism,Community Event,Community Service,Fundraiser,Remembrance and Appreciation
END:VEVENT
END:VCALENDAR