BEGIN:VCALENDAR
VERSION:2.0
PRODID:-//Grande du Washington - ECPv6.15.13.1//NONSGML v1.0//EN
CALSCALE:GREGORIAN
METHOD:PUBLISH
X-WR-CALNAME:Grande du Washington
X-ORIGINAL-URL:https://grandeduwashington.com
X-WR-CALDESC:Events for Grande du Washington
REFRESH-INTERVAL;VALUE=DURATION:PT1H
X-Robots-Tag:noindex
X-PUBLISHED-TTL:PT1H
BEGIN:VTIMEZONE
TZID:America/Los_Angeles
BEGIN:DAYLIGHT
TZOFFSETFROM:-0800
TZOFFSETTO:-0700
TZNAME:PDT
DTSTART:20190310T100000
END:DAYLIGHT
BEGIN:STANDARD
TZOFFSETFROM:-0700
TZOFFSETTO:-0800
TZNAME:PST
DTSTART:20191103T090000
END:STANDARD
BEGIN:DAYLIGHT
TZOFFSETFROM:-0800
TZOFFSETTO:-0700
TZNAME:PDT
DTSTART:20200308T100000
END:DAYLIGHT
BEGIN:STANDARD
TZOFFSETFROM:-0700
TZOFFSETTO:-0800
TZNAME:PST
DTSTART:20201101T090000
END:STANDARD
BEGIN:DAYLIGHT
TZOFFSETFROM:-0800
TZOFFSETTO:-0700
TZNAME:PDT
DTSTART:20210314T100000
END:DAYLIGHT
BEGIN:STANDARD
TZOFFSETFROM:-0700
TZOFFSETTO:-0800
TZNAME:PST
DTSTART:20211107T090000
END:STANDARD
END:VTIMEZONE
BEGIN:VEVENT
DTSTART;TZID=America/Los_Angeles:20201022T090000
DTEND;TZID=America/Los_Angeles:20201022T110000
DTSTAMP:20260424T194117
CREATED:20200830T201159Z
LAST-MODIFIED:20200830T201159Z
UID:2905-1603357200-1603364400@grandeduwashington.com
SUMMARY:Grand Cheminot
DESCRIPTION:The next meeting of the Grand Cheminot is scheduled for October 22\, 2020 at 0900 at Voiture 99. \nMore information to follow.
URL:https://grandeduwashington.com/event/grand-cheminot/
LOCATION:Voiture 99 Boxcar Room\, 7607 NE 26th Ave. \, Vancouver \, WA\,  98665 \, United States
CATEGORIES:Americanism,Community Service,Grande Cheminot,Meeting,Remembrance and Appreciation,Veterans Event
END:VEVENT
END:VCALENDAR