BEGIN:VCALENDAR
VERSION:2.0
PRODID:-//Grande du Washington - ECPv6.15.13.1//NONSGML v1.0//EN
CALSCALE:GREGORIAN
METHOD:PUBLISH
X-ORIGINAL-URL:https://grandeduwashington.com
X-WR-CALDESC:Events for Grande du Washington
REFRESH-INTERVAL;VALUE=DURATION:PT1H
X-Robots-Tag:noindex
X-PUBLISHED-TTL:PT1H
BEGIN:VTIMEZONE
TZID:America/Los_Angeles
BEGIN:DAYLIGHT
TZOFFSETFROM:-0800
TZOFFSETTO:-0700
TZNAME:PDT
DTSTART:20180311T100000
END:DAYLIGHT
BEGIN:STANDARD
TZOFFSETFROM:-0700
TZOFFSETTO:-0800
TZNAME:PST
DTSTART:20181104T090000
END:STANDARD
BEGIN:DAYLIGHT
TZOFFSETFROM:-0800
TZOFFSETTO:-0700
TZNAME:PDT
DTSTART:20190310T100000
END:DAYLIGHT
BEGIN:STANDARD
TZOFFSETFROM:-0700
TZOFFSETTO:-0800
TZNAME:PST
DTSTART:20191103T090000
END:STANDARD
BEGIN:DAYLIGHT
TZOFFSETFROM:-0800
TZOFFSETTO:-0700
TZNAME:PDT
DTSTART:20200308T100000
END:DAYLIGHT
BEGIN:STANDARD
TZOFFSETFROM:-0700
TZOFFSETTO:-0800
TZNAME:PST
DTSTART:20201101T090000
END:STANDARD
END:VTIMEZONE
BEGIN:VEVENT
DTSTART;TZID=America/Los_Angeles:20191015T183000
DTEND;TZID=America/Los_Angeles:20191015T200000
DTSTAMP:20260424T160155
CREATED:20190725T011026Z
LAST-MODIFIED:20190725T011026Z
UID:2604-1571164200-1571169600@grandeduwashington.com
SUMMARY:Voiture 99 Cheminot / Cabane 99 Cheminot
DESCRIPTION:Chateau opens at 4:00 pm \nFinancial Committee at 4:00 pm at the Bingo Parlor \nDinner at 5:30 pm \nMeetings at 6:30 pm
URL:https://grandeduwashington.com/event/voiture-99-cheminot-cabane-99-cheminot-16/
LOCATION:Voiture 99 Chateau\, 7607 NE 26th Ave\, Vancouver \, WA\, 98665\, United States
CATEGORIES:Cheminot,Community Service,LaFemmes,Meeting,Remembrance and Appreciation
END:VEVENT
BEGIN:VEVENT
DTSTART;TZID=America/Los_Angeles:20191007T183000
DTEND;TZID=America/Los_Angeles:20191007T200000
DTSTAMP:20260424T160155
CREATED:20190725T010729Z
LAST-MODIFIED:20190725T010729Z
UID:2602-1570473000-1570478400@grandeduwashington.com
SUMMARY:Voiture 99 Promenade/ Cabane 99 Rendezvous
DESCRIPTION:Chateau opens at 4:00 pm \nFinancial Committee at 4:00 pm at the Bingo Parlor \nDinner at 5:30 pm \nMeetings at 6:30 pm
URL:https://grandeduwashington.com/event/voiture-99-promenade-cabane-99-rendezvous-9/
LOCATION:Voiture 99 Chateau\, 7607 NE 26th Ave\, Vancouver \, WA\, 98665\, United States
CATEGORIES:Community Service,LaFemmes,Meeting,Prom,Remembrance and Appreciation
END:VEVENT
BEGIN:VEVENT
DTSTART;TZID=America/Los_Angeles:20190917T183000
DTEND;TZID=America/Los_Angeles:20190917T200000
DTSTAMP:20260424T160155
CREATED:20190725T010204Z
LAST-MODIFIED:20190725T010204Z
UID:2598-1568745000-1568750400@grandeduwashington.com
SUMMARY:Voiture 99 Cheminot / Cabane 99 Cheminot
DESCRIPTION:Chateau opens at 4:00 pm \nFinancial Committee at 4:00 pm at the Bingo Parlor \nDinner at 5:30 pm \nMeetings at 6:30 pm
URL:https://grandeduwashington.com/event/voiture-99-cheminot-cabane-99-cheminot-15/
LOCATION:Voiture 99 Chateau\, 7607 NE 26th Ave\, Vancouver \, WA\, 98665\, United States
CATEGORIES:Cheminot,Community Service,LaFemmes,Meeting,Remembrance and Appreciation,Veterans Event
END:VEVENT
BEGIN:VEVENT
DTSTART;TZID=America/Los_Angeles:20190903T183000
DTEND;TZID=America/Los_Angeles:20190903T200000
DTSTAMP:20260424T160155
CREATED:20190725T010526Z
LAST-MODIFIED:20190725T010526Z
UID:2600-1567535400-1567540800@grandeduwashington.com
SUMMARY:Voiture 99 Promenade/ Cabane 99 Rendezvous
DESCRIPTION:Chateau opens at 4:00 pm \nFinancial Committee at 4:00 pm at the Bingo Parlor \nDinner at 5:30 pm \nMeetings at 6:30 pm
URL:https://grandeduwashington.com/event/voiture-99-promenade-cabane-99-rendezvous-8/
LOCATION:Voiture 99 Chateau\, 7607 NE 26th Ave\, Vancouver \, WA\, 98665\, United States
CATEGORIES:Community Service,LaFemmes,Meeting,Prom
END:VEVENT
BEGIN:VEVENT
DTSTART;VALUE=DATE:20190621
DTEND;VALUE=DATE:20190623
DTSTAMP:20260424T160155
CREATED:20190428T132933Z
LAST-MODIFIED:20190428T132933Z
UID:2530-1561075200-1561247999@grandeduwashington.com
SUMMARY:LeFemme's Annual Rummage Sale
DESCRIPTION:
URL:https://grandeduwashington.com/event/lefemmes-annual-rummage-sale/
LOCATION:Voiture 99 Boxcar Room\, 7607 NE 26th Ave. \, Vancouver \, WA\,  98665 \, United States
CATEGORIES:Americanism,Community Event,Community Service,Fundraiser,LaFemmes,Remembrance and Appreciation
END:VEVENT
BEGIN:VEVENT
DTSTART;TZID=America/Los_Angeles:20190316T090000
DTEND;TZID=America/Los_Angeles:20190316T160000
DTSTAMP:20260424T160155
CREATED:20190221T101220Z
LAST-MODIFIED:20190221T101220Z
UID:2472-1552726800-1552752000@grandeduwashington.com
SUMMARY:La Femmes Annual Used Book Sale
DESCRIPTION:
URL:https://grandeduwashington.com/event/la-femmes-annual-used-book-sale-2/
LOCATION:Voiture 99 Boxcar Room\, 7607 NE 26th Ave. \, Vancouver \, WA\,  98665 \, United States
CATEGORIES:Community Event,Community Service,Fundraiser,LaFemmes
END:VEVENT
BEGIN:VEVENT
DTSTART;TZID=America/Los_Angeles:20190315T090000
DTEND;TZID=America/Los_Angeles:20190315T160000
DTSTAMP:20260424T160155
CREATED:20190221T101005Z
LAST-MODIFIED:20190221T101005Z
UID:2469-1552640400-1552665600@grandeduwashington.com
SUMMARY:La Femmes Annual Used Book Sale
DESCRIPTION:
URL:https://grandeduwashington.com/event/la-femmes-annual-used-book-sale/
LOCATION:Voiture 99 Boxcar Room\, 7607 NE 26th Ave. \, Vancouver \, WA\,  98665 \, United States
CATEGORIES:Community Event,Community Service,Fundraiser,LaFemmes
END:VEVENT
END:VCALENDAR