BEGIN:VCALENDAR
VERSION:2.0
PRODID:-//Grande du Washington - ECPv6.15.13.1//NONSGML v1.0//EN
CALSCALE:GREGORIAN
METHOD:PUBLISH
X-ORIGINAL-URL:https://grandeduwashington.com
X-WR-CALDESC:Events for Grande du Washington
REFRESH-INTERVAL;VALUE=DURATION:PT1H
X-Robots-Tag:noindex
X-PUBLISHED-TTL:PT1H
BEGIN:VTIMEZONE
TZID:America/Los_Angeles
BEGIN:DAYLIGHT
TZOFFSETFROM:-0800
TZOFFSETTO:-0700
TZNAME:PDT
DTSTART:20180311T100000
END:DAYLIGHT
BEGIN:STANDARD
TZOFFSETFROM:-0700
TZOFFSETTO:-0800
TZNAME:PST
DTSTART:20181104T090000
END:STANDARD
BEGIN:DAYLIGHT
TZOFFSETFROM:-0800
TZOFFSETTO:-0700
TZNAME:PDT
DTSTART:20190310T100000
END:DAYLIGHT
BEGIN:STANDARD
TZOFFSETFROM:-0700
TZOFFSETTO:-0800
TZNAME:PST
DTSTART:20191103T090000
END:STANDARD
BEGIN:DAYLIGHT
TZOFFSETFROM:-0800
TZOFFSETTO:-0700
TZNAME:PDT
DTSTART:20200308T100000
END:DAYLIGHT
BEGIN:STANDARD
TZOFFSETFROM:-0700
TZOFFSETTO:-0800
TZNAME:PST
DTSTART:20201101T090000
END:STANDARD
BEGIN:DAYLIGHT
TZOFFSETFROM:-0800
TZOFFSETTO:-0700
TZNAME:PDT
DTSTART:20210314T100000
END:DAYLIGHT
BEGIN:STANDARD
TZOFFSETFROM:-0700
TZOFFSETTO:-0800
TZNAME:PST
DTSTART:20211107T090000
END:STANDARD
END:VTIMEZONE
BEGIN:VEVENT
DTSTART;VALUE=DATE:20200911
DTEND;VALUE=DATE:20200912
DTSTAMP:20260424T161611
CREATED:20190601T053420Z
LAST-MODIFIED:20200906T102651Z
UID:2560-1599782400-1599868799@grandeduwashington.com
SUMMARY:Patriot Day Video Salute
DESCRIPTION:The Historic Trust and its partners present a Patriot Day Salute video to remember those who lost their lives during the 9/11 attacks. \nThe video will also be aired at 10am on channel 23 and 1pm on channel 21 on 9/11. Other days/times can be found here at \nhttps://www.cvtv.org/schedule. \nNineteen years ago\, terrorists hijacked airplanes on September 11 to attack the World Trade Center in New York City and the Pentagon in Washington\, D.C. Everyone on board the three planes and nearly 3\,000 people on the ground were killed. A fourth hijacked plane on way to an unknown destination crashed into a field near Shanksville\, Pennsylvania\, killing everyone aboard. We honor those who paid the ultimate price and acknowledge the people who suffer from the aftereffects of the events that unfolded that day. \nThank you to Presenting Sponsor Davidson & Associates Insurance. The Historic Trust is also grateful to its partners the Community Military Appreciation Committee and the City of Vancouver\, along with media sponsor The Columbian\, for making possible this virtual salute. The Trust and partners are grateful to the speakers\, musicians\, and other participants who generously cooperated in making the video. \n__________________________________________________\nObserve Patriot Day\nOn the direction of the President\, the flag of the United States of America should be displayed on the homes of Americans\, the White House and all United States government buildings in the whole world. The flag should be flown at half-staff as a mark of respect to those who died on September 11\, 2001. Many people observe a moment of silence at 8:46 AM (Eastern Daylight Time). This marks the time that the first plane flew into the World Trade Center. Some communities\, particularly in the areas directly affected by the attacks\, hold special church services or prayer meetings. People who personally experienced the events in 2001 or lost loved ones in them\, may lay flowers or visit memorials. \nPublic Life\nPatriot Day is not a federal holiday and schools and businesses do not close. Public transit systems run on their regular schedules. Some people and organizations may take some time out to hold prayers for the victims of the attacks\, but these do not usually affect public life for more than a few minutes. \nAbout Patriot Day\nOn September 11\, 2001\, four planes were hijacked. The hijackers then deliberately flew three of the planes into two important buildings\, the Pentagon in Washington DC and the Twin Towers of the World Trade Center in New York. The fourth crashed into a field near Shanksville\, Pennsylvania. The loss of life and damage that these hijackings caused form the biggest act of terrorism ever on United States soil. Nearly 3000 people died in the attacks and the economic impact was immense. \nThe attacks have greatly increased attention to national security in the United States. This has had huge implications for United States national and international politics. This is particularly true for the relationships between the United States and Islamic countries in the Middle East. \nSymbols\nThe most potent symbol of the events that happened on September 11\, 2001 are pictures and videos of planes flying into buildings\, of the Twin Towers of the World Trade Center engulfed in smoke and later collapsing and of people falling from buildings. Pictures taken of damaged buildings and relatives looking for loved ones in the days and weeks after the attacks are also often shown. The flag of the United States is often displayed around images of the events on September 11\, 2001. This is to remind Americans that their country remained strong in the face of massive terrorist attacks. \nPatriot Day should not be confused with Patriot’s Day\, also known as Patriots Day\, which commemorates the battles of Lexington and Concord in 1775\, which were two of the earliest battles in the American Revolutionary War.
URL:https://grandeduwashington.com/event/patriot-day-2/
CATEGORIES:Americanism,Community Event,Community Service,History,Remembrance and Appreciation
END:VEVENT
BEGIN:VEVENT
DTSTART;TZID=America/Los_Angeles:20200903T190000
DTEND;TZID=America/Los_Angeles:20200903T200000
DTSTAMP:20260424T161611
CREATED:20200827T153859Z
LAST-MODIFIED:20200827T153859Z
UID:2900-1599159600-1599163200@grandeduwashington.com
SUMMARY:Lewis County Voiture 83 September Prom
DESCRIPTION:
URL:https://grandeduwashington.com/event/lewis-county-voiture-83-september-prom/
LOCATION:Napavine Grill\, 114 E. Washington \, Napavine \, WA\, 98565\, United States
CATEGORIES:Meeting,Prom,Remembrance and Appreciation,Veterans Event
ORGANIZER;CN="Lewis Co. Voiture 83":MAILTO:tomboone1146@yahoo.com 
END:VEVENT
BEGIN:VEVENT
DTSTART;VALUE=DATE:20200614
DTEND;VALUE=DATE:20200615
DTSTAMP:20260424T161611
CREATED:20200529T003912Z
LAST-MODIFIED:20200529T003912Z
UID:2827-1592092800-1592179199@grandeduwashington.com
SUMMARY:US Army Birthday
DESCRIPTION:The U.S. Army operates with close to half a million active-duty soldiers\, according to a 2016 Army demographics report; the service has come a long way since it was created approximately a year prior to the signing of the Declaration of Independence.
URL:https://grandeduwashington.com/event/us-army-birthday/
CATEGORIES:Americanism,Community Event,Community Service,History,Remembrance and Appreciation
END:VEVENT
BEGIN:VEVENT
DTSTART;VALUE=DATE:20200614
DTEND;VALUE=DATE:20200615
DTSTAMP:20260424T161611
CREATED:20200529T003131Z
LAST-MODIFIED:20200529T003131Z
UID:2825-1592092800-1592179199@grandeduwashington.com
SUMMARY:Flag Day
DESCRIPTION:Flag Day is a non-federal holiday in the United States that honors the history and meaning of the American Flag. To celebrate Flag Day\, get a high-quality American flag and display it in a prominent location outside of your home. Raise the flag at sunrise and lower it at sunset to adhere to the U.S. Flag Code.
URL:https://grandeduwashington.com/event/flag-day/
CATEGORIES:Americanism,Community Event,Community Service,Flag Day,Remembrance and Appreciation
END:VEVENT
BEGIN:VEVENT
DTSTART;VALUE=DATE:20200525
DTEND;VALUE=DATE:20200526
DTSTAMP:20260424T161611
CREATED:20200522T160600Z
LAST-MODIFIED:20200523T180027Z
UID:2822-1590364800-1590451199@grandeduwashington.com
SUMMARY:Memorial Day Remembrance
DESCRIPTION:The Community Military Appreciation Committee (CMAC)\, the City of Vancouver and the National Parks Service will be hosting a special Memorial Day program at 3 p.m. and 9 p.m. on Monday\, May 25. The program\, which is prepared in advance\, will feature remarks by Larry Smith and Mike Burton from CMAC\, Superintendent of the Fort Vancouver National Historic Site Tracy Fortmann\, Mayor of Vancouver Anne McEnerny-Ogle and Meredith McMackin\, a Gold Star Mother. The keynote speaker for the event will be General Donna Prigmore of the Oregon National Guard. The program will be available to watch on CVTV cable channel 23/323HD and on cvtv.org. \nMusic for the broadcast program will be provided by the 204th Army Band\, Vancouver Fire Fighters Pipes and Drums\, the Vancouver Police Department and the VFW Post 7824 Honor Guard. \n“The coronavirus pandemic prevents us from gathering the year together as we normally would\, but consistent with guidance from national\, state and local public health authorities\, we are safely observing Memorial Day. By videotaping speakers’ remarks this year from different location\, we are responsibly doing our part for our community\, our healthcare heroes\, other front-line workers and first responders and those who are vulnerable\,” Tracy Fortmann said in a news release. \nCMAC co-chair Larry Smith said “the Memorial Day observance honors those who have given their lives for our country\, and although (it’s) not the public event and living history re-enactment we have enjoyed in the past\, we still have an opportunity to show our respect and support for the men and women of our armed forces.”\nCMAC is an all-inclusive group composed of members representing youth\, education\, civic\, military\, veterans groups\, and local governments. CMAC executes and plans community-wide events\, such as Memorial Day\, Veterans Day\, Our Community Salutes\, and POW/MIA Day ceremonies\, as well as recognition and support of military families of all services. \nAs soon as it’s available we will post a link here to the Memorial Day video.
URL:https://grandeduwashington.com/event/memorial-day-remembrance/
CATEGORIES:Americanism,Community Event,Community Service,Remembrance and Appreciation
END:VEVENT
BEGIN:VEVENT
DTSTART;TZID=America/Los_Angeles:20200519T183000
DTEND;TZID=America/Los_Angeles:20200519T200000
DTSTAMP:20260424T161611
CREATED:20200228T194632Z
LAST-MODIFIED:20200228T194632Z
UID:2774-1589913000-1589918400@grandeduwashington.com
SUMMARY:Voiture 99 Promenade/ Cabane 99 Rendezvous
DESCRIPTION:Chateau opens at 4:00 pm \nFinancial Committee at 4:00 pm at the Bingo Parlor \nDinner at 5:30 pm \nMeetings at 6:30 pm
URL:https://grandeduwashington.com/event/voiture-99-promenade-cabane-99-rendezvous-14/
LOCATION:Voiture 99 Chateau\, 7607 NE 26th Ave\, Vancouver \, WA\, 98665\, United States
CATEGORIES:Americanism,Cheminot,Community Service,LaFemmes,Meeting,Remembrance and Appreciation,Veterans Event
END:VEVENT
BEGIN:VEVENT
DTSTART;TZID=America/Los_Angeles:20200504T183000
DTEND;TZID=America/Los_Angeles:20200504T200000
DTSTAMP:20260424T161611
CREATED:20200228T201705Z
LAST-MODIFIED:20200228T201705Z
UID:2780-1588617000-1588622400@grandeduwashington.com
SUMMARY:Voiture 99 Promenade / Cabane 99 Rendezvous
DESCRIPTION:General membership meetings held on the first Monday of each month. \nVoiture 99 Promenade / Cabane 99 Rendezvous  \nChateau opens at 4:00 pm \nDinner at 5:30 pm\, Cost: $8.00 \nMeetings 6:30 pm
URL:https://grandeduwashington.com/event/voiture-99-promenade-cabane-99-rendezvous-16/
LOCATION:Voiture 99 Chateau\, 7607 NE 26th Ave\, Vancouver \, WA\, 98665\, United States
CATEGORIES:Americanism,Community Service,LaFemmes,Meeting,Prom,Remembrance and Appreciation,Veterans Event
END:VEVENT
BEGIN:VEVENT
DTSTART;TZID=America/Los_Angeles:20200504T183000
DTEND;TZID=America/Los_Angeles:20200504T200000
DTSTAMP:20260424T161611
CREATED:20200228T195457Z
LAST-MODIFIED:20200228T195457Z
UID:2776-1588617000-1588622400@grandeduwashington.com
SUMMARY:Voiture 99 Promenade/ Cabane 99 Rendezvous
DESCRIPTION:Chateau opens at 4:00 pm \nFinancial Committee at 4:00 pm at the Bingo Parlor \nDinner at 5:30 pm \nMeetings at 6:30 pm
URL:https://grandeduwashington.com/event/voiture-99-promenade-cabane-99-rendezvous-15/
LOCATION:Voiture 99 Chateau\, 7607 NE 26th Ave\, Vancouver \, WA\, 98665\, United States
CATEGORIES:Americanism,Community Service,LaFemmes,Meeting,Prom,Remembrance and Appreciation,Veterans Event
END:VEVENT
BEGIN:VEVENT
DTSTART;TZID=America/Los_Angeles:20200421T183000
DTEND;TZID=America/Los_Angeles:20200421T200000
DTSTAMP:20260424T161611
CREATED:20200228T201313Z
LAST-MODIFIED:20200228T201313Z
UID:2778-1587493800-1587499200@grandeduwashington.com
SUMMARY:Voiture 99 Cheminot / Cabane 99 Cheminot
DESCRIPTION:Chateau opens at 4:00 pm \nFinancial Committee at 4:00 pm at the Bingo Parlor \nDinner at 5:30 pm \nMeetings at 6:30 pm
URL:https://grandeduwashington.com/event/voiture-99-cheminot-cabane-99-cheminot-21/
LOCATION:Voiture 99 Chateau\, 7607 NE 26th Ave\, Vancouver \, WA\, 98665\, United States
CATEGORIES:Americanism,Cheminot,Community Service,Dinner,Remembrance and Appreciation,Veterans Event
END:VEVENT
BEGIN:VEVENT
DTSTART;TZID=America/Los_Angeles:20200421T183000
DTEND;TZID=America/Los_Angeles:20200421T200000
DTSTAMP:20260424T161611
CREATED:20200228T194005Z
LAST-MODIFIED:20200228T194005Z
UID:2770-1587493800-1587499200@grandeduwashington.com
SUMMARY:Voiture 99 Cheminot / Cabane 99 Cheminot
DESCRIPTION:Chateau opens at 4:00 pm \nFinancial Committee at 4:00 pm at the Bingo Parlor \nDinner at 5:30 pm \nMeetings at 6:30 pm
URL:https://grandeduwashington.com/event/voiture-99-cheminot-cabane-99-cheminot-20/
LOCATION:Voiture 99 Chateau\, 7607 NE 26th Ave\, Vancouver \, WA\, 98665\, United States
CATEGORIES:Americanism,Cheminot,Community Service,LaFemmes,Meeting,Remembrance and Appreciation,Veterans Event
END:VEVENT
BEGIN:VEVENT
DTSTART;VALUE=DATE:20200416
DTEND;VALUE=DATE:20200420
DTSTAMP:20260424T161611
CREATED:20191007T025158Z
LAST-MODIFIED:20191007T025158Z
UID:2682-1586995200-1587340799@grandeduwashington.com
SUMMARY:Great Western Promenade
DESCRIPTION:See Great Western Promenade page in drop down menu under Calendar for Flyer and Registration.
URL:https://grandeduwashington.com/event/great-western-promenade/
LOCATION:Hotel North Pole\, 449 N Santa Claus Ln\,\, North Pole\, AK\, 99705\, United States
CATEGORIES:Americanism,Community Event,Community Service,LaFemmes,Meeting,Prom,Remembrance and Appreciation,Rendezvous,Veterans Event
END:VEVENT
BEGIN:VEVENT
DTSTART;TZID=America/Los_Angeles:20200406T183000
DTEND;TZID=America/Los_Angeles:20200406T200000
DTSTAMP:20260424T161611
CREATED:20200228T194306Z
LAST-MODIFIED:20200228T194306Z
UID:2772-1586197800-1586203200@grandeduwashington.com
SUMMARY:Voiture 99 Promenade/ Cabane 99 Rendezvous
DESCRIPTION:Chateau opens at 4:00 pm \nFinancial Committee at 4:00 pm at the Bingo Parlor \nDinner at 5:30 pm \nMeetings at 6:30 pm
URL:https://grandeduwashington.com/event/voiture-99-promenade-cabane-99-rendezvous-13/
LOCATION:Voiture 99 Chateau\, 7607 NE 26th Ave\, Vancouver \, WA\, 98665\, United States
CATEGORIES:Americanism,Cheminot,Community Service,Dinner,LaFemmes,Meeting,Prom,Remembrance and Appreciation,Veterans Event
END:VEVENT
BEGIN:VEVENT
DTSTART;VALUE=DATE:20200330
DTEND;VALUE=DATE:20200331
DTSTAMP:20260424T161611
CREATED:20200330T020652Z
LAST-MODIFIED:20200330T020652Z
UID:2799-1585526400-1585612799@grandeduwashington.com
SUMMARY:National Vietnam War Veterans Day
DESCRIPTION:NATIONAL VIETNAM WAR VETERANS DAY \nNational Vietnam War Veterans Day on March 29 honors the men and women who served and sacrificed during the longest conflict in United States history. \nOn March 29\, 1973\, combat and combat support units withdrew from South Vietnam. Generations later\, Veterans of this time period are gaining the respect that was not so freely given upon their return. Involving five U.S. presidents\, crossing nearly two decades and 500\,000 U.S.military personnel\, it left an indelible mark on the American psyche. \nReturning veterans did not always receive respectful welcomes upon their arrival on American soil. Over 58\,000 killed\, never to return. The observance recognizes the military service of these men and women who answered the call to serve their country when she needed them. They didn’t make the decisions to go to war. \nThroughout the observance\, we recognize the service and duty rendered by all servicemen and women of this era. \nHOW TO OBSERVE #VietnamWarVeteransDay\nAround the country\, commemorative events\, speeches\, and luncheons are being held inviting Vietnam Veterans as honored guests. Other ways to participate include: \n\nThank a Vietnam Veteran.\nBuy them a drink or lunch.\nVisit a local memorial. Volunteer to help organize events.\nSupport a veteran’s organization in your community. Volunteer and offer your skills.\nWatch a Vietnam War documentary such as The Vietnam War: A Film by Ken Burns and Lynn Novick or Last Days in Vietnam directed by Rory Kennedy or Vietnam Nurses by Timeline.\nRead about the Vietnam War in books like Vietnam – A History by Stanley Karnow or They Marched into Sunlight: War and Peace\, Vietnam and America\, October 1967 by David Maraniss or The Quiet American by Graham Green and Robert Stone.
URL:https://grandeduwashington.com/event/national-vietnam-war-veterans-day-2/
CATEGORIES:Americanism,Community Event,Community Service,History,Remembrance and Appreciation,Veterans Event
END:VEVENT
BEGIN:VEVENT
DTSTART;TZID=America/Los_Angeles:20200317T183000
DTEND;TZID=America/Los_Angeles:20200317T200000
DTSTAMP:20260424T161611
CREATED:20200228T193400Z
LAST-MODIFIED:20200327T022638Z
UID:2768-1584469800-1584475200@grandeduwashington.com
SUMMARY:Voiture 99 Cheminot / Cabane 99 Cheminot - Cancelled
DESCRIPTION:Cancelled\nChateau opens at 4:00 pm \nFinancial Committee at 4:00 pm at the Bingo Parlor \nDinner at 5:30 pm \nMeetings at 6:30 pm
URL:https://grandeduwashington.com/event/voiture-99-cheminot-cabane-99-cheminot-19/
LOCATION:Voiture 99 Chateau\, 7607 NE 26th Ave\, Vancouver \, WA\, 98665\, United States
CATEGORIES:Americanism,Cheminot,Community Service,Dinner,LaFemmes,Meeting,Remembrance and Appreciation,Veterans Event
END:VEVENT
BEGIN:VEVENT
DTSTART;TZID=America/Los_Angeles:20200305T190000
DTEND;TZID=America/Los_Angeles:20200305T200000
DTSTAMP:20260424T161611
CREATED:20200228T192216Z
LAST-MODIFIED:20200228T192216Z
UID:2763-1583434800-1583438400@grandeduwashington.com
SUMMARY:Lewis County Voiture 83 Promenade
DESCRIPTION:
URL:https://grandeduwashington.com/event/lewis-county-voiture-83-promenade-4/
LOCATION:Chehalis Eagles\, 1993 S Market Blvd\, Chehalis\, WA\, 98532 \, United States
CATEGORIES:Americanism,Community Service,Dinner,Meeting,Prom,Remembrance and Appreciation,Veterans Event
ORGANIZER;CN="Lewis Co. Voiture 83":MAILTO:tomboone1146@yahoo.com 
END:VEVENT
BEGIN:VEVENT
DTSTART;TZID=America/Los_Angeles:20200302T183000
DTEND;TZID=America/Los_Angeles:20200302T200000
DTSTAMP:20260424T161611
CREATED:20200228T193104Z
LAST-MODIFIED:20200228T193641Z
UID:2766-1583173800-1583179200@grandeduwashington.com
SUMMARY:Voiture 99 Promenade/ Cabane 99 Rendezvous
DESCRIPTION:Finance Committee will meet in the Bingo Hall at 4:00 pm \nDinner 5:30 pm \nMeetings 6:30 pm
URL:https://grandeduwashington.com/event/voiture-99-promenade-cabane-99-rendezvous-12/
LOCATION:Voiture 99 Chateau\, 7607 NE 26th Ave\, Vancouver \, WA\, 98665\, United States
CATEGORIES:Americanism,Community Service,LaFemmes,Meeting,Prom,Remembrance and Appreciation,Veterans Event
END:VEVENT
BEGIN:VEVENT
DTSTART;TZID=America/Los_Angeles:20200218T183000
DTEND;TZID=America/Los_Angeles:20200218T200000
DTSTAMP:20260424T161611
CREATED:20200131T080020Z
LAST-MODIFIED:20200131T080020Z
UID:2754-1582050600-1582056000@grandeduwashington.com
SUMMARY:Voiture 99 Cheminot / Cabane 99 Cheminot
DESCRIPTION:Chateau opens at 4:00 pm \nFinancial Committee at 4:00 pm at the Bingo Parlor \nDinner at 5:30 pm \nMeetings at 6:30 pm
URL:https://grandeduwashington.com/event/voiture-99-cheminot-cabane-99-cheminot-18/
LOCATION:Voiture 99 Chateau\, 7607 NE 26th Ave\, Vancouver \, WA\, 98665\, United States
CATEGORIES:Americanism,Cheminot,Community Service,Meeting,Remembrance and Appreciation,Veterans Event
END:VEVENT
BEGIN:VEVENT
DTSTART;TZID=America/Los_Angeles:20200206T190000
DTEND;TZID=America/Los_Angeles:20200206T200000
DTSTAMP:20260424T161611
CREATED:20200131T074159Z
LAST-MODIFIED:20200131T074159Z
UID:2749-1581015600-1581019200@grandeduwashington.com
SUMMARY:Lewis County Voiture 83 February Promenade
DESCRIPTION:
URL:https://grandeduwashington.com/event/lewis-county-voiture-83-february-promenade/
LOCATION:Chehalis Eagles\, 1993 S Market Blvd\, Chehalis\, WA\, 98532 \, United States
CATEGORIES:Americanism,Community Service,Meeting,Prom,Remembrance and Appreciation
ORGANIZER;CN="Lewis Co. Voiture 83":MAILTO:tomboone1146@yahoo.com 
END:VEVENT
BEGIN:VEVENT
DTSTART;TZID=America/Los_Angeles:20191217T170000
DTEND;TZID=America/Los_Angeles:20191217T183000
DTSTAMP:20260424T161611
CREATED:20191123T012409Z
LAST-MODIFIED:20191123T012409Z
UID:2724-1576602000-1576607400@grandeduwashington.com
SUMMARY:Voiture 99 Christmas Dinner
DESCRIPTION:
URL:https://grandeduwashington.com/event/voiture-99-christmas-dinner/
LOCATION:Voiture 99 Boxcar Room\, 7607 NE 26th Ave. \, Vancouver \, WA\,  98665 \, United States
CATEGORIES:Americanism,Cheminot,Community Service,Dinner,LaFemmes,Remembrance and Appreciation,Veterans Event
END:VEVENT
BEGIN:VEVENT
DTSTART;TZID=America/Los_Angeles:20191214T100000
DTEND;TZID=America/Los_Angeles:20191214T170000
DTSTAMP:20260424T161611
CREATED:20191123T013137Z
LAST-MODIFIED:20191123T013137Z
UID:2729-1576317600-1576342800@grandeduwashington.com
SUMMARY:Army - Navy Game
DESCRIPTION:
URL:https://grandeduwashington.com/event/army-navy-game/
LOCATION:Voiture 99 Chateau\, 7607 NE 26th Ave\, Vancouver \, WA\, 98665\, United States
CATEGORIES:Army - Navy Game,Community Service,Remembrance and Appreciation,Veterans Event
END:VEVENT
BEGIN:VEVENT
DTSTART;TZID=America/Los_Angeles:20191128T180000
DTEND;TZID=America/Los_Angeles:20191128T200000
DTSTAMP:20260424T161611
CREATED:20191128T031235Z
LAST-MODIFIED:20191128T031235Z
UID:2734-1574964000-1574971200@grandeduwashington.com
SUMMARY:Voiture 83's December Promenade
DESCRIPTION:
URL:https://grandeduwashington.com/event/voiture-83s-december-promenade/
LOCATION:Chehalis Eagles\, 1993 S Market Blvd\, Chehalis\, WA\, 98532 \, United States
CATEGORIES:Americanism,Community Service,Meeting,Prom,Remembrance and Appreciation,Veterans Event
ORGANIZER;CN="Lewis Co. Voiture 83":MAILTO:tomboone1146@yahoo.com 
END:VEVENT
BEGIN:VEVENT
DTSTART;TZID=America/Los_Angeles:20191123T170000
DTEND;TZID=America/Los_Angeles:20191123T230000
DTSTAMP:20260424T161611
CREATED:20191123T014216Z
LAST-MODIFIED:20191123T014216Z
UID:2731-1574528400-1574550000@grandeduwashington.com
SUMMARY:New Years Eve Party
DESCRIPTION:
URL:https://grandeduwashington.com/event/new-years-eve-party/
LOCATION:Voiture 99 Chateau\, 7607 NE 26th Ave\, Vancouver \, WA\, 98665\, United States
CATEGORIES:Americanism,Community Event,Community Service,Dinner,New Years Eve,Remembrance and Appreciation,Veterans Event
END:VEVENT
BEGIN:VEVENT
DTSTART;TZID=America/Los_Angeles:20191119T183000
DTEND;TZID=America/Los_Angeles:20191119T200000
DTSTAMP:20260424T161611
CREATED:20191019T132905Z
LAST-MODIFIED:20191019T132905Z
UID:2702-1574188200-1574193600@grandeduwashington.com
SUMMARY:Voiture 99 Cheminot / Cabane 99 Cheminot
DESCRIPTION:Chateau opens at 4:00 pm \nFinancial Committee at 4:00 pm at the Bingo Parlor \nDinner at 5:30 pm
URL:https://grandeduwashington.com/event/voiture-99-cheminot-cabane-99-cheminot-17/
LOCATION:Voiture 99 Chateau\, 7607 NE 26th Ave\, Vancouver \, WA\, 98665\, United States
CATEGORIES:Americanism,Cheminot,Community Service,Meeting,Remembrance and Appreciation,Veterans Event
END:VEVENT
BEGIN:VEVENT
DTSTART;TZID=America/Los_Angeles:20191116T180000
DTEND;TZID=America/Los_Angeles:20191116T193000
DTSTAMP:20260424T161611
CREATED:20191006T183321Z
LAST-MODIFIED:20191009T005839Z
UID:2660-1573927200-1573932600@grandeduwashington.com
SUMMARY:Voiture 90 Nurses Training Scholarship Awards
DESCRIPTION:The Nurses Training Scholarship Awards dinner will consist of Turkey\, Mashed Potatoes\, mixed Vegetables and desert.  \nThe Banquet is still the 16th of November\, 2019 at the American Legion Post in Wenatchee\, Wa.  \n$10 per person if signed up before the dinner – $12 at the door.  \nThere will be a sign up sheet \,at the post until ONE week prior to the 16th of November.  That way we have some idea of how many people are planning on attending.  \nAny questions you may contact me\, Fred Willsey\, Chef de Gar of V90. and I will try and have an answer too help you.  \nThank you\,\nFred Willsey
URL:https://grandeduwashington.com/event/voiture-90-nurses-training-awards/
LOCATION:American Legion Post 10\, 208 North Wenatchee Avenue\, Wenatchee \, WA\, United States
CATEGORIES:Americanism,Awards,Community Event,Community Service,Nurses training,Remembrance and Appreciation,Scholarship
END:VEVENT
BEGIN:VEVENT
DTSTART;TZID=America/Los_Angeles:20191109T120000
DTEND;TZID=America/Los_Angeles:20191109T150000
DTSTAMP:20260424T161611
CREATED:20190912T125645Z
LAST-MODIFIED:20190912T125645Z
UID:2646-1573300800-1573311600@grandeduwashington.com
SUMMARY:CMAC Veterans Day Expo
DESCRIPTION:Following the parade everyone is welcome to stop by and visit. \nThis will feature hot dogs\, chips\, ice cream and a series of displays and tables with items of interest to veterans and the community. There will be face painting and interactive activities which will help community members understand the role of the military as well who in the community have or are serving in the military.
URL:https://grandeduwashington.com/event/cmac-veterans-day-expo/
LOCATION:Hudsons Bay High School\, 3528\, 1601 E McLoughlin Blvd\,\, Vancouver \, WA\, 98663\, United States
CATEGORIES:Americanism,Community Event,Community Service,Remembrance and Appreciation,Veterans Day
END:VEVENT
BEGIN:VEVENT
DTSTART;TZID=America/Los_Angeles:20191108T090000
DTEND;TZID=America/Los_Angeles:20191108T093000
DTSTAMP:20260424T161611
CREATED:20191022T181959Z
LAST-MODIFIED:20191022T181959Z
UID:2707-1573203600-1573205400@grandeduwashington.com
SUMMARY:Veterans Day Assembly at FVHS
DESCRIPTION:
URL:https://grandeduwashington.com/event/veterans-day-assembly-at-fvhs/
LOCATION:Fort Vancouver High School\, 5700 E 18th Street\, Vancouver\, WA\, 98661\, United States
CATEGORIES:Americanism,Community Event,Community Service,History,Remembrance and Appreciation,Veterans Day
END:VEVENT
BEGIN:VEVENT
DTSTART;TZID=America/Los_Angeles:20191107T190000
DTEND;TZID=America/Los_Angeles:20191107T200000
DTSTAMP:20260424T161611
CREATED:20190530T105914Z
LAST-MODIFIED:20191102T173906Z
UID:2556-1573153200-1573156800@grandeduwashington.com
SUMMARY:Lewis County Voiture 83 November Promenade
DESCRIPTION:
URL:https://grandeduwashington.com/event/lewis-county-voiture-83-june-promenade/
LOCATION:Chehalis Eagles\, 1993 S Market Blvd\, Chehalis\, WA\, 98532 \, United States
CATEGORIES:Americanism,Community Event,Community Service,Prom,Remembrance and Appreciation,Veterans Event
ORGANIZER;CN="Lewis Co. Voiture 83":MAILTO:tomboone1146@yahoo.com 
END:VEVENT
BEGIN:VEVENT
DTSTART;TZID=America/Los_Angeles:20191107T103000
DTEND;TZID=America/Los_Angeles:20191107T123000
DTSTAMP:20260424T161611
CREATED:20191017T015600Z
LAST-MODIFIED:20191017T015600Z
UID:2696-1573122600-1573129800@grandeduwashington.com
SUMMARY:Governor’s Veterans Affairs Advisory Committee Town Hall – Longview
DESCRIPTION:Downloadable copy
URL:https://grandeduwashington.com/event/governors-veterans-affairs-advisory-committee-town-hall-longview/
LOCATION:American Legion Post #155\, 1250 12thAve\, Longview \, WA\, 98632 \, United States
CATEGORIES:Americanism,Community Event,Community Service,Meeting,Remembrance and Appreciation,Veterans Event
END:VEVENT
BEGIN:VEVENT
DTSTART;VALUE=DATE:20191106
DTEND;VALUE=DATE:20191107
DTSTAMP:20260424T161611
CREATED:20190908T002039Z
LAST-MODIFIED:20190908T002341Z
UID:2633-1572998400-1573084799@grandeduwashington.com
SUMMARY:"Honor a Veteran" Hiring Event
DESCRIPTION:
URL:https://grandeduwashington.com/event/honor-a-veteran-hiring-event/
LOCATION:Voiture 99 Bingo Parlor\, 7607 NE 26th Ave. \, Vancouver\, WA\, 98665\, United States
CATEGORIES:Americanism,Community Event,Community Service,Hiring event,Remembrance and Appreciation,Veterans Event
END:VEVENT
BEGIN:VEVENT
DTSTART;TZID=America/Los_Angeles:20191104T183000
DTEND;TZID=America/Los_Angeles:20191104T183000
DTSTAMP:20260424T161611
CREATED:20191019T132534Z
LAST-MODIFIED:20191019T132534Z
UID:2700-1572892200-1572892200@grandeduwashington.com
SUMMARY:Voiture 99 Promenade/ Cabane 99 Rendezvous
DESCRIPTION:Chateau opens at 4:00 pm \nFinancial Committee at 4:00 pm at the Bingo Parlor \nDinner at 5:30 pm \nMeetings at 6:30 pm
URL:https://grandeduwashington.com/event/voiture-99-promenade-cabane-99-rendezvous-10/
LOCATION:Voiture 99 Chateau\, 7607 NE 26th Ave\, Vancouver \, WA\, 98665\, United States
CATEGORIES:Americanism,Community Service,Meeting,Prom,Remembrance and Appreciation,Veterans Event
END:VEVENT
END:VCALENDAR