BEGIN:VCALENDAR
VERSION:2.0
PRODID:-//Grande du Washington - ECPv6.15.13.1//NONSGML v1.0//EN
CALSCALE:GREGORIAN
METHOD:PUBLISH
X-WR-CALNAME:Grande du Washington
X-ORIGINAL-URL:https://grandeduwashington.com
X-WR-CALDESC:Events for Grande du Washington
REFRESH-INTERVAL;VALUE=DURATION:PT1H
X-Robots-Tag:noindex
X-PUBLISHED-TTL:PT1H
BEGIN:VTIMEZONE
TZID:America/Los_Angeles
BEGIN:DAYLIGHT
TZOFFSETFROM:-0800
TZOFFSETTO:-0700
TZNAME:PDT
DTSTART:20160313T100000
END:DAYLIGHT
BEGIN:STANDARD
TZOFFSETFROM:-0700
TZOFFSETTO:-0800
TZNAME:PST
DTSTART:20161106T090000
END:STANDARD
BEGIN:DAYLIGHT
TZOFFSETFROM:-0800
TZOFFSETTO:-0700
TZNAME:PDT
DTSTART:20170312T100000
END:DAYLIGHT
BEGIN:STANDARD
TZOFFSETFROM:-0700
TZOFFSETTO:-0800
TZNAME:PST
DTSTART:20171105T090000
END:STANDARD
BEGIN:DAYLIGHT
TZOFFSETFROM:-0800
TZOFFSETTO:-0700
TZNAME:PDT
DTSTART:20180311T100000
END:DAYLIGHT
BEGIN:STANDARD
TZOFFSETFROM:-0700
TZOFFSETTO:-0800
TZNAME:PST
DTSTART:20181104T090000
END:STANDARD
BEGIN:DAYLIGHT
TZOFFSETFROM:-0800
TZOFFSETTO:-0700
TZNAME:PDT
DTSTART:20190310T100000
END:DAYLIGHT
BEGIN:STANDARD
TZOFFSETFROM:-0700
TZOFFSETTO:-0800
TZNAME:PST
DTSTART:20191103T090000
END:STANDARD
END:VTIMEZONE
BEGIN:VEVENT
DTSTART;VALUE=DATE:20180413
DTEND;VALUE=DATE:20180415
DTSTAMP:20260425T102111
CREATED:20180126T080132Z
LAST-MODIFIED:20180126T080132Z
UID:2317-1523577600-1523750399@grandeduwashington.com
SUMMARY:Grande Petite Promenade
DESCRIPTION:Click HERE for Downloadable Form\n  \n  \n  \n  \n 
URL:https://grandeduwashington.com/event/grande-petite-promenade-2/
LOCATION:Hells Canyon RV Resort\,  1560 Port Drive\, Clarkston \, WA\, 99403\, United States
CATEGORIES:Americanism,Community Service,Meeting,Prom,Remembrance and Appreciation,Veterans Event
END:VEVENT
BEGIN:VEVENT
DTSTART;VALUE=DATE:20180406
DTEND;VALUE=DATE:20180408
DTSTAMP:20260425T102111
CREATED:20180331T093739Z
LAST-MODIFIED:20180331T093739Z
UID:2343-1522972800-1523145599@grandeduwashington.com
SUMMARY:Cabane 99 Annual Book Sale
DESCRIPTION:
URL:https://grandeduwashington.com/event/cabane-99-annual-book-sale/
LOCATION:LA
CATEGORIES:Americanism,Community Event,Community Service,Fundraiser
END:VEVENT
BEGIN:VEVENT
DTSTART;TZID=America/Los_Angeles:20180405T180000
DTEND;TZID=America/Los_Angeles:20180405T200000
DTSTAMP:20260425T102111
CREATED:20180331T090246Z
LAST-MODIFIED:20180331T090313Z
UID:2340-1522951200-1522958400@grandeduwashington.com
SUMMARY:Voiture 83’s April 2018 Promenade
DESCRIPTION:
URL:https://grandeduwashington.com/event/voiture-83s-april-2018-promenade/
LOCATION:Chehalis Eagles\, 1993 S Market Blvd\, Chehalis\, WA\, 98532 \, United States
CATEGORIES:Americanism,Community Service,Prom,Remembrance and Appreciation,Veterans Event
ORGANIZER;CN="Lewis Co. Voiture 83":MAILTO:tomboone1146@yahoo.com 
END:VEVENT
BEGIN:VEVENT
DTSTART;TZID=America/Los_Angeles:20180402T183000
DTEND;TZID=America/Los_Angeles:20180402T193000
DTSTAMP:20260425T102111
CREATED:20180331T104302Z
LAST-MODIFIED:20180331T104302Z
UID:2348-1522693800-1522697400@grandeduwashington.com
SUMMARY:V99 Prom /C99 Rendezvous
DESCRIPTION:Chateau opens at 4:00 pm \nDinner at 5:30 pm \nV99 Prom /C99 Rendezvous 6:30 pm
URL:https://grandeduwashington.com/event/v99-prom-c99-rendezvous/
LOCATION:Voiture 99 Chateau\, 7607 NE 26th Ave\, Vancouver \, WA\, 98665\, United States
END:VEVENT
BEGIN:VEVENT
DTSTART;TZID=America/Los_Angeles:20180301T180000
DTEND;TZID=America/Los_Angeles:20180301T200000
DTSTAMP:20260425T102111
CREATED:20180225T025627Z
LAST-MODIFIED:20180225T025627Z
UID:2336-1519927200-1519934400@grandeduwashington.com
SUMMARY:Voiture 83’s March 2018 Promenade
DESCRIPTION:
URL:https://grandeduwashington.com/event/voiture-83s-march-2018-promenade/
LOCATION:Chehalis Eagles\, 1993 S Market Blvd\, Chehalis\, WA\, 98532 \, United States
CATEGORIES:Americanism,Community Service,Prom,Remembrance and Appreciation
ORGANIZER;CN="Lewis Co. Voiture 83":MAILTO:tomboone1146@yahoo.com 
END:VEVENT
BEGIN:VEVENT
DTSTART;TZID=America/Los_Angeles:20180220T183000
DTEND;TZID=America/Los_Angeles:20180220T193000
DTSTAMP:20260425T102111
CREATED:20180126T071607Z
LAST-MODIFIED:20180126T071607Z
UID:2307-1519151400-1519155000@grandeduwashington.com
SUMMARY:Voiture 99 Cheminot / Cabane 99 Cheminot
DESCRIPTION:Monthly Business meetings held on the third\nTuesday of every month. \nDinner 5:30 pm\, Cost $8.00 \nMeetings  6:30 pm  (Members only during meetings) \n 
URL:https://grandeduwashington.com/event/voiture-99-cheminot-cabane-99-cheminot-4/
LOCATION:Voiture 99 Chateau\, 7607 NE 26th Ave\, Vancouver \, WA\, 98665\, United States
CATEGORIES:Americanism,Cheminot,Remembrance and Appreciation,Veterans Event
END:VEVENT
BEGIN:VEVENT
DTSTART;TZID=America/Los_Angeles:20180210T110000
DTEND;TZID=America/Los_Angeles:20180210T120000
DTSTAMP:20260425T102111
CREATED:20180126T070455Z
LAST-MODIFIED:20180126T070455Z
UID:2304-1518260400-1518264000@grandeduwashington.com
SUMMARY:Voiture 99's Promenade and Cabane 99 Rendezvous
DESCRIPTION:General membership meetings held on the second Saturday of each month. \nVoiture 99 Promenade in the Chateau  \nCabane 99 Rendezvous in the Boxcar room \nMeetings 11:00 am \nLunch at 12:00 pm
URL:https://grandeduwashington.com/event/voiture-99s-promenade-and-cabane-99-rendezvous/
LOCATION:Voiture 99 Chateau\, 7607 NE 26th Ave\, Vancouver \, WA\, 98665\, United States
CATEGORIES:Americanism,Community Service,Prom,Remembrance and Appreciation,Rendezvous,Veterans Event
END:VEVENT
BEGIN:VEVENT
DTSTART;TZID=America/Los_Angeles:20180201T190000
DTEND;TZID=America/Los_Angeles:20180201T200000
DTSTAMP:20260425T102111
CREATED:20180126T064817Z
LAST-MODIFIED:20180126T064817Z
UID:2302-1517511600-1517515200@grandeduwashington.com
SUMMARY:Voiture 83’s February 2018 Promenade
DESCRIPTION:
URL:https://grandeduwashington.com/event/voiture-83s-february-2018-promenade/
LOCATION:Chehalis Eagles\, 1993 S Market Blvd\, Chehalis\, WA\, 98532 \, United States
CATEGORIES:Americanism,Community Service,Meeting,Prom,Remembrance and Appreciation
ORGANIZER;CN="Lewis Co. Voiture 83":MAILTO:tomboone1146@yahoo.com 
END:VEVENT
BEGIN:VEVENT
DTSTART;TZID=America/Los_Angeles:20180116T183000
DTEND;TZID=America/Los_Angeles:20180116T193000
DTSTAMP:20260425T102111
CREATED:20171128T003806Z
LAST-MODIFIED:20171128T003806Z
UID:2284-1516127400-1516131000@grandeduwashington.com
SUMMARY:Voiture 99 Cheminot / Cabane 99 Cheminot
DESCRIPTION:Voiture 99 Cheminot / Cabane 99 Cheminot\n\nJanuary 16 @ 6:30 pm – 7:30 pm\n\n\n\nMonthly Voiture Business meeting on the third Tuesday of every month.\nMembers Only \nDinner 5:30 pm\nMeeting  6:30 pm  (Members only during meeting)
URL:https://grandeduwashington.com/event/voiture-99-cheminot-cabane-99-cheminot-3/
LOCATION:Voiture 99 Chateau\, 7607 NE 26th Ave\, Vancouver \, WA\, 98665\, United States
END:VEVENT
BEGIN:VEVENT
DTSTART;TZID=America/Los_Angeles:20180113T140000
DTEND;TZID=America/Los_Angeles:20180113T150000
DTSTAMP:20260425T102111
CREATED:20171128T020007Z
LAST-MODIFIED:20171128T020007Z
UID:2286-1515852000-1515855600@grandeduwashington.com
SUMMARY:
DESCRIPTION:General membership meeting. \nPromenade 2:00 pm \nDinner 5:00 pm\, cost $8.00
URL:https://grandeduwashington.com/event/2286/
LOCATION:Voiture 99 Chateau\, 7607 NE 26th Ave\, Vancouver \, WA\, 98665\, United States
CATEGORIES:Americanism,Prom,Veterans Event
END:VEVENT
BEGIN:VEVENT
DTSTART;TZID=America/Los_Angeles:20180104T190000
DTEND;TZID=America/Los_Angeles:20180104T203000
DTSTAMP:20260425T102111
CREATED:20171128T003006Z
LAST-MODIFIED:20171128T003006Z
UID:2282-1515092400-1515097800@grandeduwashington.com
SUMMARY:Lewis County Voiture 83’s January 2018 Prom
DESCRIPTION:Lewis County Voiture 83’s January 2018 Prom\n\nJanuary 4 @ 6:00 pm – 8:30 pm\n\n\n\nThursday January 7\, 2018\nTime: **Social**6:00 pm\n**Dinner**6:30 pm\n**Prom**7:00 pm\nLet me know how many will be there\, you can reach me by calling\n(360) 266-7055 or E-mail me at tomboone1146@yahoo.com\nBring a potential new member with you.\n\nI have 2018 dues cards $25.00
URL:https://grandeduwashington.com/event/lewis-county-voiture-83s-january-2018-prom/
LOCATION:Chehalis Eagles\, 1993 S Market Blvd\, Chehalis\, WA\, 98532 \, United States
CATEGORIES:Americanism,Community Service,Prom,Remembrance and Appreciation,Veterans Event
ORGANIZER;CN="Lewis Co. Voiture 83":MAILTO:tomboone1146@yahoo.com 
END:VEVENT
BEGIN:VEVENT
DTSTART;TZID=America/Los_Angeles:20180104T190000
DTEND;TZID=America/Los_Angeles:20180104T200000
DTSTAMP:20260425T102111
CREATED:20171229T073436Z
LAST-MODIFIED:20171229T073436Z
UID:2298-1515092400-1515096000@grandeduwashington.com
SUMMARY:Voiture 83's January 2018 Promenade
DESCRIPTION:
URL:https://grandeduwashington.com/event/voiture-83s-january-2018-promenade/
LOCATION:Chehalis Eagles\, 1993 S Market Blvd\, Chehalis\, WA\, 98532 \, United States
CATEGORIES:Americanism,Prom,Veterans Event
ORGANIZER;CN="Lewis Co. Voiture 83":MAILTO:tomboone1146@yahoo.com 
END:VEVENT
BEGIN:VEVENT
DTSTART;TZID=America/Los_Angeles:20171219T183000
DTEND;TZID=America/Los_Angeles:20171219T193000
DTSTAMP:20260425T102111
CREATED:20161125T194019Z
LAST-MODIFIED:20170908T012546Z
UID:2076-1513708200-1513711800@grandeduwashington.com
SUMMARY:Voiture 99 Cheminot / Cabane 99 Cheminot
DESCRIPTION:Monthly Voiture Business meeting on the third Tuesday of every month.\nMembers Only \nDinner 5:30 pm\nMeeting  6:30 pm  (Members only during meeting)
URL:https://grandeduwashington.com/event/voiture-99-cheminot-3/
LOCATION:Voiture 99 Chateau\, 7607 NE 26th Ave\, Vancouver \, WA\, 98665\, United States
CATEGORIES:Americanism,Cheminot,Remembrance and Appreciation,Veterans Event
END:VEVENT
BEGIN:VEVENT
DTSTART;TZID=America/Los_Angeles:20171209T140000
DTEND;TZID=America/Los_Angeles:20171209T150000
DTSTAMP:20260425T102111
CREATED:20161125T192207Z
LAST-MODIFIED:20171128T001730Z
UID:2064-1512828000-1512831600@grandeduwashington.com
SUMMARY:Voiture 99 Promenade
DESCRIPTION:General membership meeting. \nWreck  12:00 pm \nPromenade 2:00 pm \nDinner 5:00 pm\, cost $8.00
URL:https://grandeduwashington.com/event/voiture-99-promenade-3/
LOCATION:Voiture 99 Chateau\, 7607 NE 26th Ave\, Vancouver \, WA\, 98665\, United States
CATEGORIES:Americanism,Prom,Remembrance and Appreciation,Veterans Event
END:VEVENT
BEGIN:VEVENT
DTSTART;TZID=America/Los_Angeles:20171209T113000
DTEND;TZID=America/Los_Angeles:20171209T130000
DTSTAMP:20260425T102111
CREATED:20171128T001538Z
LAST-MODIFIED:20171128T001538Z
UID:2279-1512819000-1512824400@grandeduwashington.com
SUMMARY:Voiture 99 Wreck
DESCRIPTION:Wreck Saturday December 9\, 2017 \nGoofs 11:30 am \nWreck  12:00 noon
URL:https://grandeduwashington.com/event/voiture-99-wreck/
LOCATION:Voiture 99 Boxcar Room\, 7607 NE 26th Ave. \, Vancouver \, WA\,  98665 \, United States
CATEGORIES:Americanism,Veterans Event
END:VEVENT
BEGIN:VEVENT
DTSTART;TZID=America/Los_Angeles:20171207T180000
DTEND;TZID=America/Los_Angeles:20171207T200000
DTSTAMP:20260425T102111
CREATED:20170908T004103Z
LAST-MODIFIED:20170908T004103Z
UID:2243-1512669600-1512676800@grandeduwashington.com
SUMMARY:Lewis County Voiture 83’s  December 2017 Prom
DESCRIPTION:Thursday September 7\, 2017\nTime: **Social**6:00 pm\n**Dinner**6:30 pm\n**Prom**7:00 pm\n\nLet me know how many will be there\, you can reach me by calling\n(360) 266-7055 or E-mail me at tomboone1146@yahoo.com\nBring a potential new member with you.\n\nI have 2018 dues cards $25.00
URL:https://grandeduwashington.com/event/lewis-county-voiture-83s-december-2017-prom/
LOCATION:Chehalis Eagles\, 1993 S Market Blvd\, Chehalis\, WA\, 98532 \, United States
CATEGORIES:Americanism,Prom,Remembrance and Appreciation,Veterans Event
ORGANIZER;CN="Lewis Co. Voiture 83":MAILTO:tomboone1146@yahoo.com 
END:VEVENT
BEGIN:VEVENT
DTSTART;TZID=America/Los_Angeles:20171121T183000
DTEND;TZID=America/Los_Angeles:20171121T193000
DTSTAMP:20260425T102111
CREATED:20161125T193631Z
LAST-MODIFIED:20170908T012259Z
UID:2074-1511289000-1511292600@grandeduwashington.com
SUMMARY:Voiture 99 Cheminot / Cabane 99 Cheminot
DESCRIPTION:Monthly Voiture Business meeting on the third Tuesday of every month.\nMembers Only \nDinner 5:30 pm\nMeeting  6:30 pm  (Members only during meeting)
URL:https://grandeduwashington.com/event/voiture-99-cheminot-2/
LOCATION:Voiture 99 Chateau\, 7607 NE 26th Ave\, Vancouver \, WA\, 98665\, United States
CATEGORIES:Americanism,Cheminot,Remembrance and Appreciation,Veterans Event
END:VEVENT
BEGIN:VEVENT
DTSTART;TZID=America/Los_Angeles:20171106T183000
DTEND;TZID=America/Los_Angeles:20171106T193000
DTSTAMP:20260425T102111
CREATED:20161125T191912Z
LAST-MODIFIED:20170908T011522Z
UID:2062-1509993000-1509996600@grandeduwashington.com
SUMMARY:Voiture 99 Promenade / Cabane 99 Rendezvous
DESCRIPTION:General membership meeting held on the first Monday of each month. \nDinner 5:30 pm\, cost $8.00\nPromenade 6:30 pm to 7:30 pm
URL:https://grandeduwashington.com/event/voiture-99-promenade-2/
LOCATION:Voiture 99 Chateau\, 7607 NE 26th Ave\, Vancouver \, WA\, 98665\, United States
CATEGORIES:Americanism,Prom,Remembrance and Appreciation,Veterans Event
END:VEVENT
BEGIN:VEVENT
DTSTART;TZID=America/Los_Angeles:20171102T180000
DTEND;TZID=America/Los_Angeles:20171102T200000
DTSTAMP:20260425T102111
CREATED:20170908T003618Z
LAST-MODIFIED:20170908T003719Z
UID:2240-1509645600-1509652800@grandeduwashington.com
SUMMARY:Lewis County Voiture 83’s November 2017 Prom
DESCRIPTION:Thursday September 7\, 2017\nTime: **Social**6:00 pm\n**Dinner**6:30 pm\n**Prom**7:00 pm\n\nLet me know how many will be there\, you can reach me by calling\n(360) 266-7055 or E-mail me at tomboone1146@yahoo.com\nBring a potential new member with you.\n\nI have 2018 dues cards $25.00
URL:https://grandeduwashington.com/event/2240/
LOCATION:Chehalis Eagles\, 1993 S Market Blvd\, Chehalis\, WA\, 98532 \, United States
CATEGORIES:Americanism,Prom,Remembrance and Appreciation,Veterans Event
ORGANIZER;CN="Lewis Co. Voiture 83":MAILTO:tomboone1146@yahoo.com 
END:VEVENT
BEGIN:VEVENT
DTSTART;TZID=America/Los_Angeles:20171017T183000
DTEND;TZID=America/Los_Angeles:20171017T193000
DTSTAMP:20260425T102111
CREATED:20170908T004857Z
LAST-MODIFIED:20170908T004857Z
UID:2245-1508265000-1508268600@grandeduwashington.com
SUMMARY:Voiture 99 Cheminot / Cabane 99 Cheminot
DESCRIPTION:Voiture 99 Cheminot / Cabane 99 Cheminot \nDinner at 5:30 pm \nMeeting 6:30 pm
URL:https://grandeduwashington.com/event/voiture-99-cheminot-cabane-99-cheminot-2/
LOCATION:Voiture 99 Chateau\, 7607 NE 26th Ave\, Vancouver \, WA\, 98665\, United States
CATEGORIES:Americanism,Cheminot,Remembrance and Appreciation,Veterans Event
END:VEVENT
BEGIN:VEVENT
DTSTART;TZID=America/Los_Angeles:20171005T180000
DTEND;TZID=America/Los_Angeles:20171005T200000
DTSTAMP:20260425T102111
CREATED:20170908T003300Z
LAST-MODIFIED:20170908T003300Z
UID:2238-1507226400-1507233600@grandeduwashington.com
SUMMARY:Lewis County Voiture 83’s October 2017 Prom
DESCRIPTION:Thursday October 5\, 2017\nTime: **Social**6:00 pm\n**Dinner**6:30 pm\n**Prom**7:00 pm\n\nLet me know how many will be there\, you can reach me by calling\n(360) 266-7055 or E-mail me at tomboone1146@yahoo.com\nBring a potential new member with you.\n\nI have 2018 dues cards $25.00
URL:https://grandeduwashington.com/event/lewis-county-voiture-83s-october-2017-prom/
LOCATION:Chehalis Eagles\, 1993 S Market Blvd\, Chehalis\, WA\, 98532 \, United States
CATEGORIES:Americanism,Prom,Remembrance and Appreciation
ORGANIZER;CN="Lewis Co. Voiture 83":MAILTO:tomboone1146@yahoo.com 
END:VEVENT
BEGIN:VEVENT
DTSTART;TZID=America/Los_Angeles:20171002T183000
DTEND;TZID=America/Los_Angeles:20171002T193000
DTSTAMP:20260425T102111
CREATED:20170330T202856Z
LAST-MODIFIED:20170908T010801Z
UID:2191-1506969000-1506972600@grandeduwashington.com
SUMMARY:Voiture 99 Promenade / Cabane 99 Rendezvous
DESCRIPTION:General membership meetings held on the first Monday of each month. \nVoiture 99 Promenade / Cabane 99 Rendezvous  \nChateau opens at 4:00 pm \nDinner at 5:30 pm\, Cost: $8.00 \nPromenade at 6:30 pm
URL:https://grandeduwashington.com/event/voiture-99-promenade-cabane-99-rendezvous/
LOCATION:Voiture 99 Chateau\, 7607 NE 26th Ave\, Vancouver \, WA\, 98665\, United States
CATEGORIES:Americanism,Prom,Remembrance and Appreciation,Veterans Event
END:VEVENT
BEGIN:VEVENT
DTSTART;TZID=America/Los_Angeles:20170916T120000
DTEND;TZID=America/Los_Angeles:20170916T170000
DTSTAMP:20260425T102111
CREATED:20170908T001852Z
LAST-MODIFIED:20170908T001852Z
UID:2229-1505563200-1505581200@grandeduwashington.com
SUMMARY:Voiture 83 Veterans Picnic
DESCRIPTION:Come join us at the Veterans Picnic in Onalaska a week from this Saturday on  Sept. 16\nat the Veterans Memorial Park  at the intersection of Leonard Road & Hwy 508.\n\nThe Park is located at the corner of State Route 508 and Leonard Road. This park helps our community to honor our Onalaska area military veterans for their service and Sacrifice. The park is maintained by the Richard D. Emigh American Legion Post #508.
URL:https://grandeduwashington.com/event/voiture-83-veterans-picnic/
LOCATION:Veterans Memorial Park\, 1151 Roosevelt Ave\, Enumclaw\, WA\, 98022\, United States
CATEGORIES:Americanism,Community Event,Picnic
END:VEVENT
BEGIN:VEVENT
DTSTART;VALUE=DATE:20170912
DTEND;VALUE=DATE:20170917
DTSTAMP:20260425T102111
CREATED:20161214T083556Z
LAST-MODIFIED:20161214T083556Z
UID:2101-1505174400-1505606399@grandeduwashington.com
SUMMARY:98th  Promenade & 54th  Rendezvous Nationale
DESCRIPTION:Check HERE for more information.
URL:https://grandeduwashington.com/event/98th-promenade-54th-rendezvous-nationale/
LOCATION:Diamond Jacks Casino\, Bossier City\, LA\, United States
CATEGORIES:Prom,Veterans Event
END:VEVENT
BEGIN:VEVENT
DTSTART;TZID=America/Los_Angeles:20170907T180000
DTEND;TZID=America/Los_Angeles:20170907T200000
DTSTAMP:20260425T102111
CREATED:20170908T002400Z
LAST-MODIFIED:20170908T002400Z
UID:2236-1504807200-1504814400@grandeduwashington.com
SUMMARY:Lewis County Voiture 83’s September 2017 Prom
DESCRIPTION:Thursday September 7\, 2017\nTime: **Social**6:00 pm\n**Dinner**6:30 pm\n**Prom**7:00 pm\n\nLet me know how many will be there\, you can reach me by calling\n(360) 266-7055 or E-mail me at tomboone1146@yahoo.com\nBring a potential new member with you.\n\nI have 2018 dues cards $25.00
URL:https://grandeduwashington.com/event/lewis-county-voiture-83s-september-2017-prom-2/
LOCATION:Chehalis Eagles\, 1993 S Market Blvd\, Chehalis\, WA\, 98532 \, United States
CATEGORIES:Americanism,Prom,Remembrance and Appreciation,Veterans Event
ORGANIZER;CN="Lewis Co. Voiture 83":MAILTO:tomboone1146@yahoo.com 
END:VEVENT
BEGIN:VEVENT
DTSTART;TZID=America/Los_Angeles:20170907T180000
DTEND;TZID=America/Los_Angeles:20170907T200000
DTSTAMP:20260425T102111
CREATED:20170905T111100Z
LAST-MODIFIED:20170905T111100Z
UID:2227-1504807200-1504814400@grandeduwashington.com
SUMMARY:Lewis County Voiture  83's September 2017 Prom
DESCRIPTION:Thursday September 7\, 2017\nTime: **Social**6:00 pm\n**Dinner**6:30 pm\n**Prom**7:00 pm\nLet me know how many will be there\, you can reach me by calling\n(360) 266-7055 or E-mail me at tomboone1146@yahoo.com\nBring a potential new member with you.\n\nI have 2018 dues cards $25.00
URL:https://grandeduwashington.com/event/lewis-county-voiture-83s-september-2017-prom/
LOCATION:Chehalis Eagles\, 1993 S Market Blvd\, Chehalis\, WA\, 98532 \, United States
CATEGORIES:Americanism,Prom,Veterans Event
ORGANIZER;CN="Lewis Co. Voiture 83":MAILTO:tomboone1146@yahoo.com 
END:VEVENT
BEGIN:VEVENT
DTSTART;TZID=America/Los_Angeles:20170703T183000
DTEND;TZID=America/Los_Angeles:20170703T193000
DTSTAMP:20260425T102111
CREATED:20170430T102043Z
LAST-MODIFIED:20170430T102043Z
UID:2208-1499106600-1499110200@grandeduwashington.com
SUMMARY:Voiture 99 Promenade / Cabane 99 Rendezvous
DESCRIPTION:General membership meetings held on the first Monday of each month. \nVoiture 99 Promenade / Cabane 99 Rendezvous  \nChateau opens at 4:00 pm \nDinner at 5:30 pm\, Cost: $8.00 \nMeetings at 6:30
URL:https://grandeduwashington.com/event/voiture-99-promenade-cabane-99-rendezvous-4/
LOCATION:Voiture 99 Chateau\, 7607 NE 26th Ave\, Vancouver \, WA\, 98665\, United States
CATEGORIES:Americanism,Community Service,Prom,Remembrance and Appreciation,Veterans Event
ATTACH;FMTTYPE=image/gif:https://grandeduwashington.com/wp-content/uploads/2016/11/408clean3.gif
END:VEVENT
BEGIN:VEVENT
DTSTART;VALUE=DATE:20170609
DTEND;VALUE=DATE:20170611
DTSTAMP:20260425T102111
CREATED:20161214T081706Z
LAST-MODIFIED:20170430T103916Z
UID:2098-1496966400-1497139199@grandeduwashington.com
SUMMARY:Grande du Washington Grande Promenade
DESCRIPTION:
URL:https://grandeduwashington.com/event/grand-du-washington-prom/
LOCATION:Fair Bridge Inn & Suites\, 1507 North 1st Street \, Yakima \, WA\, 98901\, United States
CATEGORIES:Prom,Veterans Event
END:VEVENT
BEGIN:VEVENT
DTSTART;TZID=America/Los_Angeles:20170605T183000
DTEND;TZID=America/Los_Angeles:20170605T193000
DTSTAMP:20260425T102111
CREATED:20170430T101750Z
LAST-MODIFIED:20170430T101750Z
UID:2206-1496687400-1496691000@grandeduwashington.com
SUMMARY:Voiture 99 Promenade / Cabane 99 Rendezvous
DESCRIPTION:General membership meetings held on the first Monday of each month. \nVoiture 99 Promenade / Cabane 99 Rendezvous  \nChateau opens at 4:00 pm \nDinner at 5:30 pm\, Cost: $8.00 \nMeetings at 6:30
URL:https://grandeduwashington.com/event/voiture-99-promenade-cabane-99-rendezvous-3/
LOCATION:Voiture 99 Chateau\, 7607 NE 26th Ave\, Vancouver \, WA\, 98665\, United States
CATEGORIES:Americanism,Community Service,Prom,Remembrance and Appreciation,Veterans Event
ATTACH;FMTTYPE=image/gif:https://grandeduwashington.com/wp-content/uploads/2016/11/408clean3.gif
END:VEVENT
BEGIN:VEVENT
DTSTART;TZID=America/Los_Angeles:20170601T180000
DTEND;TZID=America/Los_Angeles:20170601T200000
DTSTAMP:20260425T102111
CREATED:20170430T093559Z
LAST-MODIFIED:20170430T094031Z
UID:2198-1496340000-1496347200@grandeduwashington.com
SUMMARY:Lewis County Voiture 83’s June 2017 Prom
DESCRIPTION:Lewis County Voiture  83’s June 2017 Prom will be June 1\, 2017 at Chehalis Eagles\, Chehalis Wa.  We will be ordering off the menu.\nThursday June 1\, 2017\nTime: **Social**6:00 pm\n**Dinner**6:30 pm\n**Prom**7:00 pm\nLet me know how many will be there\, you can reach me by calling\n(360) 266-7055 or E-mail me at tomboone1146@yahoo.com\nBring a potential new member with you.\n\n\nI have 2017 dues cards $25.00
URL:https://grandeduwashington.com/event/2198/
LOCATION:Chehalis Eagles\, 1993 S Market Blvd\, Chehalis\, WA\, 98532 \, United States
CATEGORIES:Americanism,Community Service,Prom,Remembrance and Appreciation,Veterans Event
ATTACH;FMTTYPE=image/gif:https://grandeduwashington.com/wp-content/uploads/2016/11/408clean3.gif
ORGANIZER;CN="Lewis Co. Voiture 83":MAILTO:tomboone1146@yahoo.com 
END:VEVENT
END:VCALENDAR