BEGIN:VCALENDAR
VERSION:2.0
PRODID:-//Grande du Washington - ECPv6.15.13.1//NONSGML v1.0//EN
CALSCALE:GREGORIAN
METHOD:PUBLISH
X-ORIGINAL-URL:https://grandeduwashington.com
X-WR-CALDESC:Events for Grande du Washington
REFRESH-INTERVAL;VALUE=DURATION:PT1H
X-Robots-Tag:noindex
X-PUBLISHED-TTL:PT1H
BEGIN:VTIMEZONE
TZID:America/Los_Angeles
BEGIN:DAYLIGHT
TZOFFSETFROM:-0800
TZOFFSETTO:-0700
TZNAME:PDT
DTSTART:20200308T100000
END:DAYLIGHT
BEGIN:STANDARD
TZOFFSETFROM:-0700
TZOFFSETTO:-0800
TZNAME:PST
DTSTART:20201101T090000
END:STANDARD
BEGIN:DAYLIGHT
TZOFFSETFROM:-0800
TZOFFSETTO:-0700
TZNAME:PDT
DTSTART:20210314T100000
END:DAYLIGHT
BEGIN:STANDARD
TZOFFSETFROM:-0700
TZOFFSETTO:-0800
TZNAME:PST
DTSTART:20211107T090000
END:STANDARD
BEGIN:DAYLIGHT
TZOFFSETFROM:-0800
TZOFFSETTO:-0700
TZNAME:PDT
DTSTART:20220313T100000
END:DAYLIGHT
BEGIN:STANDARD
TZOFFSETFROM:-0700
TZOFFSETTO:-0800
TZNAME:PST
DTSTART:20221106T090000
END:STANDARD
BEGIN:DAYLIGHT
TZOFFSETFROM:-0800
TZOFFSETTO:-0700
TZNAME:PDT
DTSTART:20230312T100000
END:DAYLIGHT
BEGIN:STANDARD
TZOFFSETFROM:-0700
TZOFFSETTO:-0800
TZNAME:PST
DTSTART:20231105T090000
END:STANDARD
BEGIN:DAYLIGHT
TZOFFSETFROM:-0800
TZOFFSETTO:-0700
TZNAME:PDT
DTSTART:20240310T100000
END:DAYLIGHT
BEGIN:STANDARD
TZOFFSETFROM:-0700
TZOFFSETTO:-0800
TZNAME:PST
DTSTART:20241103T090000
END:STANDARD
END:VTIMEZONE
BEGIN:VEVENT
DTSTART;VALUE=DATE:20230428
DTEND;VALUE=DATE:20230430
DTSTAMP:20260424T133533
CREATED:20230127T215232Z
LAST-MODIFIED:20230228T121730Z
UID:3479-1682640000-1682812799@grandeduwashington.com
SUMMARY:Grande du Washington Promenade
DESCRIPTION:
URL:https://grandeduwashington.com/event/grande-du-washington-promenade-2/
LOCATION:American Legion Post 28\, 276 8th Avenue NW\, Ephrata\, WA\, 98823\, United States
END:VEVENT
BEGIN:VEVENT
DTSTART;VALUE=DATE:20230413
DTEND;VALUE=DATE:20230417
DTSTAMP:20260424T133533
CREATED:20201219T044400Z
LAST-MODIFIED:20230112T184652Z
UID:3018-1681344000-1681689599@grandeduwashington.com
SUMMARY:Great Western States Promenade
DESCRIPTION:Click HERE for downloadable forms.
URL:https://grandeduwashington.com/event/great-western-states-promenade-2/
LOCATION:The Rushmore Hotel and Suites\, 445 Mt Rushmore Road\, Rapid City\, SD
CATEGORIES:Americanism,Community Service,Prom,Remembrance and Appreciation,Veterans Event
ORGANIZER;CN="Grande du South Dakota and Voiture Local 658":MAILTO:arjinmn1@msn.com
END:VEVENT
BEGIN:VEVENT
DTSTART;TZID=America/Los_Angeles:20221217T180000
DTEND;TZID=America/Los_Angeles:20221217T193000
DTSTAMP:20260424T133533
CREATED:20221107T025528Z
LAST-MODIFIED:20221107T025528Z
UID:3433-1671300000-1671305400@grandeduwashington.com
SUMMARY:Passe' Chefs Holiday Dinner
DESCRIPTION:Click HERE for downloadable registration form.
URL:https://grandeduwashington.com/event/passe-chefs-holiday-dinner/
LOCATION:Voiture 99 Boxcar Room\, 7607 NE 26th Ave. \, Vancouver \, WA\,  98665 \, United States
END:VEVENT
BEGIN:VEVENT
DTSTART;TZID=America/Los_Angeles:20221215T180000
DTEND;TZID=America/Los_Angeles:20221215T190000
DTSTAMP:20260424T133533
CREATED:20221210T143438Z
LAST-MODIFIED:20221210T144006Z
UID:3441-1671127200-1671130800@grandeduwashington.com
SUMMARY:VA Portland Health Care System is hosting a PACT Act Telephone Town Hall
DESCRIPTION:PACT Act Open Houses – Calling All Vietnam era\, Gulf War era\, and Post-9/11 Veterans! \nVA Portland Health Care System (VHA) in partnership with Portland Regional Office (VBA) is hosting a PACT Act Telephone Town Hall – Thurs. Dec. 15\, 6 – 7 p.m. \nVeterans must register here to join the event: PACT Act Telephone Town Hall \nThe PACT Act is a new law that expands VA Health Care and Benefits to Veterans exposed to burn pits and other toxic substances from the Vietnam era through the Post 9/11 era. Veterans who do not get their care at VA or have a claim with VA are more than welcome to join the call and hear more about PACT Act and any new information that they and their families should be aware of now. \nThis event is by phone only to reach as many Veterans and their loved ones as possible in Oregon and Southwest Washington. Everyone is welcome. \nTo join the event\, register at the link provided with your phone number and info\, and on Dec. 15\, simply answer the call at 6:00 PM\, remain on the line\, and you will automatically be connected to the live meeting. Veterans will be given instructions during the call to talk to operators who will take your questions for the group to address. \n The following day on Friday\, Dec. 16\, VBA will host an In-Person Claims Clinic on our VA Vancouver Campus to assist Veterans with any claims questions they have (not just PACT Act claims questions.
URL:https://grandeduwashington.com/event/va-portland-health-care-system-in-collaboration-with-portland-regional-office-is-hosting-a-pact-act-telephone-town-hall-on-thursday-dec-15-from-6-7-p-m-pst-everyone-is-welcome-to-join-the-ca/
LOCATION:WA
END:VEVENT
BEGIN:VEVENT
DTSTART;TZID=America/Los_Angeles:20221111T170000
DTEND;TZID=America/Los_Angeles:20221112T000000
DTSTAMP:20260424T133533
CREATED:20220814T233839Z
LAST-MODIFIED:20220814T234956Z
UID:3395-1668186000-1668211200@grandeduwashington.com
SUMMARY:Recruiting Station Portland 247th Marine Corps Birthday Ball
DESCRIPTION:
URL:https://grandeduwashington.com/event/3395/
LOCATION:Spirit Mountain Casino & Lodge\, 27100 Spirit Mountain Hwy.\, Grand Ronde\, OR\, United States
END:VEVENT
BEGIN:VEVENT
DTSTART;TZID=America/Los_Angeles:20221019T180000
DTEND;TZID=America/Los_Angeles:20221019T193000
DTSTAMP:20260424T133533
CREATED:20221005T210757Z
LAST-MODIFIED:20221005T212313Z
UID:3425-1666202400-1666207800@grandeduwashington.com
SUMMARY:Nurses Scholarship Dinner - rsvp by the 11th
DESCRIPTION:Sorry for the late notice but everyone is invite to attend! \nThe Nurses Scholarship Dinner on the evening of  19 October. \nThere will be 7 Student Nurses being awarded $750 each. \nThis will be held at the American Legion Post 10 in Wenatchee WA. \nThe meal will be meat loaf\, mashed Taters \, green beans and a dessert.  You don’t have to do the dishes.🙄.\n\nThey are asking that  you Please RSVP by the 11th so they have time to purchase groceries for the dinner\, meals will be $10.\n\nThe lounge will be open for cocktails and beer before hand.\n\nThe American Legion will be open early.\n\nDinner will be starting at 6:00 PM.
URL:https://grandeduwashington.com/event/nurses-scholarship-dinner/
LOCATION:American Legion Post 10\, 208 North Wenatchee Avenue\, Wenatchee \, WA\, United States
END:VEVENT
BEGIN:VEVENT
DTSTART;TZID=America/Los_Angeles:20220925T130000
DTEND;TZID=America/Los_Angeles:20220925T153000
DTSTAMP:20260424T133533
CREATED:20220815T222346Z
LAST-MODIFIED:20220817T235834Z
UID:3406-1664110800-1664119800@grandeduwashington.com
SUMMARY:Portland Thorns FC to Host Women Veterans Appreciation Night
DESCRIPTION:The Oregon Department of Veterans’ Affairs (ODVA) and Portland Thorns FC will honor Oregon’s women veterans on September 25\, 2022 at Women Veterans Appreciation Night with the Portland Thorns! Join us in celebrating the military service of Oregon’s more than 28\,000 women veterans when the two-time NWSL champion Portland Thorns take on the Chicago Red Stars in their final regular season home match of 2022. Click here to purchase tickets: https://bit.ly/3PEejaw \nSupport Oregon’s Women Veterans \nA portion of the proceeds from each ticket purchased will support the Oregon Women Veterans Fund. If you are unable to attend the game but would still like to contribute please visit: www.oregon.gov/odva/Connect/Pages/Donations.aspx. \nCelebrate Women Veterans: I am Not Invisible (IANI) Exhibit \nAlong with federal\, state\, and local partnerships\, ODVA continues to pay tribute to the courageous legacy and diversity of our Oregon women veterans through our national award winning “I’m Not Invisible” Exhibit. The virtual photo gallery and exhibit honors Oregon’s women veterans across five eras of military service and reminds us of their sacrifice and continued service and contributions within our state\, communities\, and our families. View IANI at: “I Am Not Invisible” Exhibit \nFor any questions contact: \nODVA Women Veterans Coordinator: Jessica Bradley – (503) 576 9603 or Jessica.bradley@odva.oregon.gov Portland Thorns FC: Vinnie Simone – (503) 553-5449 \nOregon Women Veteran Resource Links: \nODVA Women Veterans Program \nCenter for Women Veterans (CWV) (va.gov) \nNote: All guests over the age of 11 will be required to provide proof of two weeks past full vaccination or a negative PCR test within 72 hours of the event to enter the stadium. \n\n\n 
URL:https://grandeduwashington.com/event/portland-thorns-women-veterans-night/
LOCATION:Providence Park\, 1844 SW Morrison St\, Portland\, OR\, United States
END:VEVENT
BEGIN:VEVENT
DTSTART;TZID=America/Los_Angeles:20220909T090000
DTEND;TZID=America/Los_Angeles:20220909T130000
DTSTAMP:20260424T133533
CREATED:20220812T231716Z
LAST-MODIFIED:20220812T231716Z
UID:3385-1662714000-1662728400@grandeduwashington.com
SUMMARY:2022 Portland Veterans Job Fair and Stand Down
DESCRIPTION:The 2022 Portland Veterans Job Fair and Stand Down is back in person this year and will take place September 9th at the Veterans Memorial Coliseum Plaza located on 300 N. Winning Way in Portland. The event will take place from 9 a.m.-1 p.m. A full range of resources will be offered at this year’s Stand Down\, including: \n-Employment Fair \n-Health and Wellness Services \n-Military Surplus \n-COVID-19 Vaccines \n-Veteran Intake for Programs & Services \n-Breakfast and Lunch \n-Robust Program featuring 100+ Service Providers & Employers \n-Women & Gender Diverse Services and Lounge \n-Pet Care and Services \n-Haircuts \n-Legal Clinic \nRegistration opens at 8 a.m. on the day of the event and masks are required for all attendees. To learn more\, visit www.pdxstanddown.org. \nThe Portland Veterans Stand Down – Oregon’s largest – honors and supports Veterans\, many of whom are often either experiencing or at risk of homelessness. People who have served in the military access essential supportive resources and services\, employment\, and connections to local\, state\, and federal support. This community-led partnership combines local nonprofits\, government officials\, corporations\, and businesses to welcome more than 400 veterans annually.
URL:https://grandeduwashington.com/event/2022-portland-veterans-job-fair-and-stand-down/
LOCATION:Veterans Memorial Coliseum Plaza\, 300 N. Winning Way\, Portland\, OR\, United States
END:VEVENT
BEGIN:VEVENT
DTSTART;TZID=America/Los_Angeles:20220827T120000
DTEND;TZID=America/Los_Angeles:20220827T133000
DTSTAMP:20260424T133533
CREATED:20220815T195727Z
LAST-MODIFIED:20220815T195727Z
UID:3403-1661601600-1661607000@grandeduwashington.com
SUMMARY:Mt Rainier Memorial Ceremony
DESCRIPTION:
URL:https://grandeduwashington.com/event/mt-rainier-memorial-ceremony/
LOCATION:Veterans Memorial Park\, 1151 Roosevelt Ave\, Enumclaw\, WA\, 98022\, United States
END:VEVENT
BEGIN:VEVENT
DTSTART;TZID=America/Los_Angeles:20220827T080000
DTEND;TZID=America/Los_Angeles:20220827T133000
DTSTAMP:20260424T133533
CREATED:20220814T212223Z
LAST-MODIFIED:20220815T193729Z
UID:3392-1661587200-1661607000@grandeduwashington.com
SUMMARY:Percussion Therapy Cowlitz County Gun Range
DESCRIPTION:Range time\, Hunting Season is coming Sooner than you think!Come and have a safe day on the Range!Site in your Rifle(s) or Riflescopes pistol or pistols.There will be some range safety training as well!Remember we can only take a Maximum of 20 Twenty folks this time to the Range! On this trip!Tuesday morning before Lunch is the Cut Off Time to sign up! \nAgain we will meet 0730 -0800 at the 40et8 Château. We will be leaving at 0805 to the Range! arriving at approximately 0845-0900 \nSo far we have signed up Officially:Frank FalbeeCliff TaylorRon FryerDavid MoegleinJuan VelezPatrick LockeRodger CassetDavid Gizzi\nBob Elliott\nJohn Landahl \nNOTE the POC Point of Contacts will be:Ron Fryer:Cliff Taylor:Patrick Locke:David Moeglein:NOTE: As a Guesstimate we plan to be returning to the Chateau between 1230-1330 on the first Day!FYI ALL WEAPONS WILL BE CLEAR OF AMMO\, magazine(s) Upon entry to the Range until instructed to lock and load on the firing range by (The RSO Range Safety Officer)Cowlitz County Gun Range1000 Toutle Park RdCastle Rock\, WA  98611United States?Exit 40
URL:https://grandeduwashington.com/event/percussion-therapy-cowlitz-county-gun-range/
LOCATION:Cowlitz County Gun Range\, 1000 Toutle Park Rd\, Castle Rock\, WA\, 98611\, United States
END:VEVENT
BEGIN:VEVENT
DTSTART;VALUE=DATE:20220807
DTEND;VALUE=DATE:20220808
DTSTAMP:20260424T133533
CREATED:20210525T161039Z
LAST-MODIFIED:20210525T161152Z
UID:3161-1659830400-1659916799@grandeduwashington.com
SUMMARY:National Flag Foundation’s Project Purple Heart Initiative
DESCRIPTION:
URL:https://grandeduwashington.com/event/national-flag-foundations-project-purple-heart-initiative/
LOCATION:WA
END:VEVENT
BEGIN:VEVENT
DTSTART;VALUE=DATE:20220722
DTEND;VALUE=DATE:20220724
DTSTAMP:20260424T133533
CREATED:20220712T061031Z
LAST-MODIFIED:20220712T061031Z
UID:3365-1658448000-1658620799@grandeduwashington.com
SUMMARY:Grande Du Washington Promenade
DESCRIPTION:Grande Promenade is scheduled for July 22nd and 23rd in Vancouver Washington.  Registration form is available in pdf form.  Click HERE for your registration.
URL:https://grandeduwashington.com/event/grande-du-washington-promenade/
LOCATION:Voiture 99 Chateau\, 7607 NE 26th Ave\, Vancouver \, WA\, 98665\, United States
END:VEVENT
BEGIN:VEVENT
DTSTART;VALUE=DATE:20220429
DTEND;VALUE=DATE:20220501
DTSTAMP:20260424T133533
CREATED:20220318T115709Z
LAST-MODIFIED:20220318T120921Z
UID:3317-1651190400-1651363199@grandeduwashington.com
SUMMARY:Grande Du Washington Petite Promenade
DESCRIPTION:See Registration form below – \n  \n \n 
URL:https://grandeduwashington.com/event/grande-du-washington-petite-promenade/
LOCATION:Voiture 99 Boxcar Room\, 7607 NE 26th Ave. \, Vancouver \, WA\,  98665 \, United States
CATEGORIES:Community Service,Grande Promenade,Meeting,Remembrance and Appreciation,Veterans Event
END:VEVENT
BEGIN:VEVENT
DTSTART;VALUE=DATE:20220101
DTEND;VALUE=DATE:20220102
DTSTAMP:20260424T133533
CREATED:20211029T034304Z
LAST-MODIFIED:20211029T034304Z
UID:3235-1640995200-1641081599@grandeduwashington.com
SUMMARY:New Years Day
DESCRIPTION:
URL:https://grandeduwashington.com/event/new-years-day/
LOCATION:WA
END:VEVENT
BEGIN:VEVENT
DTSTART;VALUE=DATE:20211225
DTEND;VALUE=DATE:20211226
DTSTAMP:20260424T133533
CREATED:20211029T031210Z
LAST-MODIFIED:20211029T031958Z
UID:3230-1640390400-1640476799@grandeduwashington.com
SUMMARY:Christmas Day
DESCRIPTION:
URL:https://grandeduwashington.com/event/merry-christmas/
LOCATION:WA
END:VEVENT
BEGIN:VEVENT
DTSTART;VALUE=DATE:20211207
DTEND;VALUE=DATE:20211208
DTSTAMP:20260424T133533
CREATED:20211207T210448Z
LAST-MODIFIED:20211207T210448Z
UID:3278-1638835200-1638921599@grandeduwashington.com
SUMMARY:The Attack on Pearl Harbor
DESCRIPTION:On December 7\, we commemorate the 80th anniversary of the Japanese attack on Pearl Harbor\, which marks the 76th anniversary of the end of WWII. Over 2\,400 Americans died at Pearl Harbor\, and more than 1\,000 were injured during the bombing. Over 300 aircraft and 19 naval ships were damaged or destroyed. It marked the entrance of the US into World War II\, and FDR said the attack was “A date which will live in infamy.” \nPearl Harbor National Memorial and its partners announced the theme for the 2021 National Pearl Harbor Remembrance Day Commemoration: Valor\, Sacrifice\, and Peace. \nThe National Park Service said\, “The goal of the commemoration and supplemental events is to ensure that future generations will understand the valor and legacy of those who perished and those who fought throughout the war. \nThe commemoration also highlights the importance of the peace that brought a reconciliation that continues to create a better future for all”. \nVideo – The Attack on Pearl Harbor
URL:https://grandeduwashington.com/event/the-attack-on-pearl-harbor/
LOCATION:WA
END:VEVENT
BEGIN:VEVENT
DTSTART;VALUE=DATE:20211125
DTEND;VALUE=DATE:20211126
DTSTAMP:20260424T133533
CREATED:20211029T025721Z
LAST-MODIFIED:20211029T025721Z
UID:3228-1637798400-1637884799@grandeduwashington.com
SUMMARY:Thanksgiving Day
DESCRIPTION:
URL:https://grandeduwashington.com/event/thanksgiving-day/
LOCATION:WA
END:VEVENT
BEGIN:VEVENT
DTSTART;TZID=America/Los_Angeles:20211113T150000
DTEND;TZID=America/Los_Angeles:20211113T200000
DTSTAMP:20260424T133533
CREATED:20210926T032604Z
LAST-MODIFIED:20210926T032604Z
UID:3218-1636815600-1636833600@grandeduwashington.com
SUMMARY:Columbia River Detachment Annual Marine Corps Birthday Dinner
DESCRIPTION:
URL:https://grandeduwashington.com/event/columbia-river-detachment-annual-marine-corps-birthday-dinner/
LOCATION:American Legion Post 14\, 4607 NE St James Rd\, Vancouver \, WA\, United States
ORGANIZER;CN="Columbia River Detachment%2C Marine Corps League":MAILTO:bhauser1952@msn.com
END:VEVENT
BEGIN:VEVENT
DTSTART;TZID=America/Los_Angeles:20211008T170000
DTEND;TZID=America/Los_Angeles:20211008T190000
DTSTAMP:20260424T133533
CREATED:20210926T015752Z
LAST-MODIFIED:20210926T015752Z
UID:3214-1633712400-1633719600@grandeduwashington.com
SUMMARY:Fall Harvest Chicken Dinner
DESCRIPTION:
URL:https://grandeduwashington.com/event/fall-harvest-chicken-dinner/
LOCATION:Voiture 99 Chateau\, 7607 NE 26th Ave\, Vancouver \, WA\, 98665\, United States
END:VEVENT
BEGIN:VEVENT
DTSTART;TZID=America/Los_Angeles:20210916T100000
DTEND;TZID=America/Los_Angeles:20210916T110000
DTSTAMP:20260424T133533
CREATED:20210909T173117Z
LAST-MODIFIED:20210909T173117Z
UID:3204-1631786400-1631790000@grandeduwashington.com
SUMMARY:National Caregivers Support System
DESCRIPTION:Who can participate? \nAnyone who is a caregiver of a Veteran?  The listening sessions will focus on the Program of General Caregiver Support Services and we welcome anyone caring for a veteran\, whether they are enrolled in the VA’s Caregiver Support Program or not. \nIf you are interested please send your name and contact number to \nKaren Cutright\nkaren.cutrightslegrist@va.gov
URL:https://grandeduwashington.com/event/national-caregivers-support-system-4/
LOCATION:Online Meeting
END:VEVENT
BEGIN:VEVENT
DTSTART;TZID=America/Los_Angeles:20210915T080000
DTEND;TZID=America/Los_Angeles:20210915T090000
DTSTAMP:20260424T133533
CREATED:20210909T172506Z
LAST-MODIFIED:20210909T172506Z
UID:3202-1631692800-1631696400@grandeduwashington.com
SUMMARY:National Caregivers Support System
DESCRIPTION:Who can participate? \nAnyone who is a caregiver of a Veteran?  The listening sessions will focus on the Program of General Caregiver Support Services and we welcome anyone caring for a veteran\, whether they are enrolled in the VA’s Caregiver Support Program or not. \nIf you are interested please send your name and contact number to \nKaren Cutright\nkaren.cutrightslegrist@va.gov
URL:https://grandeduwashington.com/event/national-caregivers-support-system-3/
LOCATION:Online Meeting
END:VEVENT
BEGIN:VEVENT
DTSTART;TZID=America/Los_Angeles:20210914T140000
DTEND;TZID=America/Los_Angeles:20210914T150000
DTSTAMP:20260424T133533
CREATED:20210909T171823Z
LAST-MODIFIED:20210909T173312Z
UID:3200-1631628000-1631631600@grandeduwashington.com
SUMMARY:National Caregivers Support System
DESCRIPTION:Who can participate? \nAnyone who is a caregiver of a Veteran?  The listening sessions will focus on the Program of General Caregiver Support Services and we welcome anyone caring for a veteran\, whether they are enrolled in the VA’s Caregiver Support Program or not. \nIf you are interested please send your name and contact number to \nKaren Cutright\nkaren.cutrightslegrist@va.gov
URL:https://grandeduwashington.com/event/national-caregivers-support-system-2/
LOCATION:Online Meeting
END:VEVENT
BEGIN:VEVENT
DTSTART;VALUE=DATE:20210914
DTEND;VALUE=DATE:20210919
DTSTAMP:20260424T133533
CREATED:20210612T075113Z
LAST-MODIFIED:20210612T075113Z
UID:3171-1631577600-1632009599@grandeduwashington.com
SUMMARY:Promenade National
DESCRIPTION:The Promenade National is scheduled for September 14 – 18th in Springfield\, MO. If you are planning to attend\, I need to know so I can inform National. \nMore information when available.
URL:https://grandeduwashington.com/event/promenade-national/
LOCATION:WA
END:VEVENT
BEGIN:VEVENT
DTSTART;VALUE=DATE:20210914
DTEND;VALUE=DATE:20210919
DTSTAMP:20260424T133533
CREATED:20210331T190207Z
LAST-MODIFIED:20210331T191957Z
UID:3108-1631577600-1632009599@grandeduwashington.com
SUMMARY:102nd 40&8 Promenade Nationale
DESCRIPTION:The 102nd Promenade Nationale will be held in Springfield\, Missouri on September 14th through the 18th\, 2021.  Just a 45 minute drive from Branson\, Missouri.  Come out to have a good time.  There is lots to see and do in this area.  See attached flyer telling you some of the things to see and do. \nDownloadable registration and more information is on the 2021 40&8 Promenade Nationale page.
URL:https://grandeduwashington.com/event/102nd-promenade-nationale/
LOCATION:University Plaza Hotel\, 333 S John Q. Hammons Parkway\, Springfield \, MO\, 65806 \, United States
CATEGORIES:Americanism,Community Service,Nationale Promenade,Prom,Remembrance and Appreciation,Rendezvous,Veterans Event
END:VEVENT
BEGIN:VEVENT
DTSTART;TZID=America/Los_Angeles:20210911T090000
DTEND;TZID=America/Los_Angeles:20210911T103000
DTSTAMP:20260424T133533
CREATED:20210801T063059Z
LAST-MODIFIED:20210801T063059Z
UID:3184-1631350800-1631356200@grandeduwashington.com
SUMMARY:Patriots Day Ceremony
DESCRIPTION:September 11\, 2021\, Vancouver Waterfront-9am. \nThis year’s event in partnership with the City of Vancouver and is the 1st major \nevent being held at the Vancouver Waterfront.   \nMore information when available.
URL:https://grandeduwashington.com/event/patriots-day-ceremony/
LOCATION:Vancouver Waterfront\, 695 Waterfront Way\, Vancouver \, WA\, 98660\, United States
END:VEVENT
BEGIN:VEVENT
DTSTART;VALUE=DATE:20210911
DTEND;VALUE=DATE:20210912
DTSTAMP:20260424T133533
CREATED:20190601T054259Z
LAST-MODIFIED:20190601T054259Z
UID:2562-1631318400-1631404799@grandeduwashington.com
SUMMARY:Patriot Day
DESCRIPTION:Observe Patriot Day\nOn the direction of the President\, the flag of the United States of America should be displayed on the homes of Americans\, the White House and all United States government buildings in the whole world. The flag should be flown at half-staff as a mark of respect to those who died on September 11\, 2001. Many people observe a moment of silence at 8:46 AM (Eastern Daylight Time). This marks the time that the first plane flew into the World Trade Center. Some communities\, particularly in the areas directly affected by the attacks\, hold special church services or prayer meetings. People who personally experienced the events in 2001 or lost loved ones in them\, may lay flowers or visit memorials. \nPublic Life\nPatriot Day is not a federal holiday and schools and businesses do not close. Public transit systems run on their regular schedules. Some people and organizations may take some time out to hold prayers for the victims of the attacks\, but these do not usually affect public life for more than a few minutes. \nAbout Patriot Day\nOn September 11\, 2001\, four planes were hijacked. The hijackers then deliberately flew three of the planes into two important buildings\, the Pentagon in Washington DC and the Twin Towers of the World Trade Center in New York. The fourth crashed into a field near Shanksville\, Pennsylvania. The loss of life and damage that these hijackings caused form the biggest act of terrorism ever on United States soil. Nearly 3000 people died in the attacks and the economic impact was immense. \nThe attacks have greatly increased attention to national security in the United States. This has had huge implications for United States national and international politics. This is particularly true for the relationships between the United States and Islamic countries in the Middle East. \nSymbols\nThe most potent symbol of the events that happened on September 11\, 2001 are pictures and videos of planes flying into buildings\, of the Twin Towers of the World Trade Center engulfed in smoke and later collapsing and of people falling from buildings. Pictures taken of damaged buildings and relatives looking for loved ones in the days and weeks after the attacks are also often shown. The flag of the United States is often displayed around images of the events on September 11\, 2001. This is to remind Americans that their country remained strong in the face of massive terrorist attacks. \nPatriot Day should not be confused with Patriot’s Day\, also known as Patriots Day\, which commemorates the battles of Lexington and Concord in 1775\, which were two of the earliest battles in the American Revolutionary War.
URL:https://grandeduwashington.com/event/patriot-day-3/
LOCATION:WA
CATEGORIES:Americanism,Community Event,Community Service
END:VEVENT
BEGIN:VEVENT
DTSTART;TZID=America/Los_Angeles:20210910T110000
DTEND;TZID=America/Los_Angeles:20210910T120000
DTSTAMP:20260424T133533
CREATED:20210909T171542Z
LAST-MODIFIED:20210909T171542Z
UID:3198-1631271600-1631275200@grandeduwashington.com
SUMMARY:National Caregivers Support System
DESCRIPTION:Who can participate? \nAnyone who is a caregiver of a Veteran?  The listening sessions will focus on the Program of General Caregiver Support Services and we welcome anyone caring for a veteran\, whether they are enrolled in the VA’s Caregiver Support Program or not. \nIf you are interested please send your name and contact number to \nKaren Cutright\nkaren.cutrightslegrist@va.gov
URL:https://grandeduwashington.com/event/national-caregivers-support-system/
LOCATION:Online Meeting
END:VEVENT
BEGIN:VEVENT
DTSTART;VALUE=DATE:20210829
DTEND;VALUE=DATE:20210830
DTSTAMP:20260424T133533
CREATED:20210814T234110Z
LAST-MODIFIED:20210814T234110Z
UID:3191-1630195200-1630281599@grandeduwashington.com
SUMMARY:The Price Of A First Class Stamp Is Going Up on August 29 to 58 cents
DESCRIPTION:The Price Of A First Class Stamp Is Going Up on August 29 to 58 cents
URL:https://grandeduwashington.com/event/the-price-of-a-first-class-stamp-is-going-up-on-august-29-to-58-cents/
LOCATION:WA
END:VEVENT
BEGIN:VEVENT
DTSTART;VALUE=DATE:20210807
DTEND;VALUE=DATE:20210808
DTSTAMP:20260424T133533
CREATED:20210612T080042Z
LAST-MODIFIED:20210612T080042Z
UID:3173-1628294400-1628380799@grandeduwashington.com
SUMMARY:Grand Du WA Promenade
DESCRIPTION:The Grand Du WA Promenade will be held on August 7th in Wenatchee\, WA. Information will be published as it becomes available.
URL:https://grandeduwashington.com/event/grand-du-wa-promenade/
LOCATION:WA
END:VEVENT
BEGIN:VEVENT
DTSTART;TZID=America/Los_Angeles:20210601T080000
DTEND;TZID=America/Los_Angeles:20210601T170000
DTSTAMP:20260424T133533
CREATED:20210601T223748Z
LAST-MODIFIED:20210601T223748Z
UID:3166-1622534400-1622566800@grandeduwashington.com
SUMMARY:Memorial Day Remembrance
DESCRIPTION:In honor of our fallen heroes\, CMAC in Vancouver held a Memorial Day Observance on May 31st that was recorded by CVTV and available for you to watch on the following dates and times: \n6/2 @ 8 p.m. Channel-23/323HD \n6/3 @ 10:30 a.m. Channel-21/321HD \n6/4 @ 9:45 a.m. Channel-21/321HD \n6/4 @ 2 p.m. Channel-23/323HD \nThank you again for helping us honor those that gave their lives. \nMore information and coverage can be found at\, \nhttps://www.columbian.com/…/ceremony-at-barracks…/ \nhttps://www.cvtv.org/vid_link/33096?startStreamAt=0…
URL:https://grandeduwashington.com/event/memorial-day-remembrance-2/
LOCATION:WA
END:VEVENT
END:VCALENDAR